Back to Multiple platform build/check report for BioC 3.8 |
|
This page was generated on 2019-04-13 11:27:04 -0400 (Sat, 13 Apr 2019).
Package 834/1649 | Hostname | OS / Arch | INSTALL | BUILD | CHECK | BUILD BIN | ||||||
LINC 1.10.0 Manuel Goepferich
| malbec1 | Linux (Ubuntu 16.04.6 LTS) / x86_64 | OK | OK | OK | ![]() | ||||||
tokay1 | Windows Server 2012 R2 Standard / x64 | OK | OK | OK | [ OK ] | ![]() | ||||||
merida1 | OS X 10.11.6 El Capitan / x86_64 | OK | OK | OK | OK | ![]() |
Package: LINC |
Version: 1.10.0 |
Command: rm -rf LINC.buildbin-libdir && mkdir LINC.buildbin-libdir && C:\Users\biocbuild\bbs-3.8-bioc\R\bin\R.exe CMD INSTALL --merge-multiarch --build --library=LINC.buildbin-libdir LINC_1.10.0.tar.gz |
StartedAt: 2019-04-13 07:34:37 -0400 (Sat, 13 Apr 2019) |
EndedAt: 2019-04-13 07:35:54 -0400 (Sat, 13 Apr 2019) |
EllapsedTime: 76.8 seconds |
RetCode: 0 |
Status: OK |
PackageFile: LINC_1.10.0.zip |
PackageFileSize: 4.138 MiB |
############################################################################## ############################################################################## ### ### Running command: ### ### rm -rf LINC.buildbin-libdir && mkdir LINC.buildbin-libdir && C:\Users\biocbuild\bbs-3.8-bioc\R\bin\R.exe CMD INSTALL --merge-multiarch --build --library=LINC.buildbin-libdir LINC_1.10.0.tar.gz ### ############################################################################## ############################################################################## install for i386 * installing *source* package 'LINC' ... ** libs C:/Rtools/mingw_32/bin/g++ -I"C:/Users/BIOCBU˜1/BBS-3˜1.8-B/R/include" -DNDEBUG -I"C:/Users/biocbuild/bbs-3.8-bioc/R/library/Rcpp/include" -I"C:/extsoft/include" -O2 -Wall -mtune=generic -c Cppspear.cpp -o Cppspear.o Cppspear.cpp: In function 'Rcpp::NumericMatrix Cppspear(Rcpp::NumericMatrix, Rcpp::NumericMatrix)': Cppspear.cpp:78:14: warning: unused variable 'qspear' [-Wunused-variable] double qspear;double nfraction; ^ C:/Rtools/mingw_32/bin/gcc -I"C:/Users/BIOCBU˜1/BBS-3˜1.8-B/R/include" -DNDEBUG -I"C:/Users/biocbuild/bbs-3.8-bioc/R/library/Rcpp/include" -I"C:/extsoft/include" -O3 -Wall -std=gnu99 -mtune=generic -c LINC_init.c -o LINC_init.o C:/Rtools/mingw_32/bin/g++ -I"C:/Users/BIOCBU˜1/BBS-3˜1.8-B/R/include" -DNDEBUG -I"C:/Users/biocbuild/bbs-3.8-bioc/R/library/Rcpp/include" -I"C:/extsoft/include" -O2 -Wall -mtune=generic -c RcppExports.cpp -o RcppExports.o C:/Rtools/mingw_32/bin/g++ -I"C:/Users/BIOCBU˜1/BBS-3˜1.8-B/R/include" -DNDEBUG -I"C:/Users/biocbuild/bbs-3.8-bioc/R/library/Rcpp/include" -I"C:/extsoft/include" -O2 -Wall -mtune=generic -c docdd.cpp -o docdd.o C:/Rtools/mingw_32/bin/g++ -I"C:/Users/BIOCBU˜1/BBS-3˜1.8-B/R/include" -DNDEBUG -I"C:/Users/biocbuild/bbs-3.8-bioc/R/library/Rcpp/include" -I"C:/extsoft/include" -O2 -Wall -mtune=generic -c doesd.cpp -o doesd.o C:/Rtools/mingw_32/bin/g++ -shared -s -static-libgcc -o LINC.dll tmp.def Cppspear.o LINC_init.o RcppExports.o docdd.o doesd.o -LC:/extsoft/lib/i386 -LC:/extsoft/lib -LC:/Users/BIOCBU˜1/BBS-3˜1.8-B/R/bin/i386 -lR installing to C:/Users/biocbuild/bbs-3.8-bioc/meat/LINC.buildbin-libdir/LINC/libs/i386 ** R ** data ** inst ** byte-compile and prepare package for lazy loading Creating a new generic function for 'history' in package 'LINC' ** help *** installing help indices converting help for package 'LINC' finding HTML links ... done Arith-methods html BRAIN_EXPR html LINCbio-class html LINCcluster-class html LINCfeature-class html LINCmatrix-class html LINCsingle-class html assignment-methods html changeOrgDb html clusterlinc-methods html correlation-methods html express-methods html feature html getbio-methods html getcoexpr html getlinc-methods html history-methods html justlinc-methods html linCenvir-methods html linc-methods html linctable-methods html plotlinc-methods html querycluster html results-methods html singlelinc-methods html ** building package indices ** installing vignettes ** testing if installed package can be loaded In R CMD INSTALL install for x64 * installing *source* package 'LINC' ... ** libs C:/Rtools/mingw_64/bin/g++ -I"C:/Users/BIOCBU˜1/BBS-3˜1.8-B/R/include" -DNDEBUG -I"C:/Users/biocbuild/bbs-3.8-bioc/R/library/Rcpp/include" -I"C:/extsoft/include" -O2 -Wall -mtune=generic -c Cppspear.cpp -o Cppspear.o Cppspear.cpp: In function 'Rcpp::NumericMatrix Cppspear(Rcpp::NumericMatrix, Rcpp::NumericMatrix)': Cppspear.cpp:78:14: warning: unused variable 'qspear' [-Wunused-variable] double qspear;double nfraction; ^ C:/Rtools/mingw_64/bin/gcc -I"C:/Users/BIOCBU˜1/BBS-3˜1.8-B/R/include" -DNDEBUG -I"C:/Users/biocbuild/bbs-3.8-bioc/R/library/Rcpp/include" -I"C:/extsoft/include" -O2 -Wall -std=gnu99 -mtune=generic -c LINC_init.c -o LINC_init.o C:/Rtools/mingw_64/bin/g++ -I"C:/Users/BIOCBU˜1/BBS-3˜1.8-B/R/include" -DNDEBUG -I"C:/Users/biocbuild/bbs-3.8-bioc/R/library/Rcpp/include" -I"C:/extsoft/include" -O2 -Wall -mtune=generic -c RcppExports.cpp -o RcppExports.o C:/Rtools/mingw_64/bin/g++ -I"C:/Users/BIOCBU˜1/BBS-3˜1.8-B/R/include" -DNDEBUG -I"C:/Users/biocbuild/bbs-3.8-bioc/R/library/Rcpp/include" -I"C:/extsoft/include" -O2 -Wall -mtune=generic -c docdd.cpp -o docdd.o C:/Rtools/mingw_64/bin/g++ -I"C:/Users/BIOCBU˜1/BBS-3˜1.8-B/R/include" -DNDEBUG -I"C:/Users/biocbuild/bbs-3.8-bioc/R/library/Rcpp/include" -I"C:/extsoft/include" -O2 -Wall -mtune=generic -c doesd.cpp -o doesd.o C:/Rtools/mingw_64/bin/g++ -shared -s -static-libgcc -o LINC.dll tmp.def Cppspear.o LINC_init.o RcppExports.o docdd.o doesd.o -LC:/extsoft/lib/x64 -LC:/extsoft/lib -LC:/Users/BIOCBU˜1/BBS-3˜1.8-B/R/bin/x64 -lR installing to C:/Users/biocbuild/bbs-3.8-bioc/meat/LINC.buildbin-libdir/LINC/libs/x64 ** testing if installed package can be loaded * MD5 sums packaged installation of 'LINC' as LINC_1.10.0.zip * DONE (LINC) In R CMD INSTALL In R CMD INSTALL