| Back to Multiple platform build/check report for BioC 3.8 | 
  | 
This page was generated on 2019-04-13 11:29:47 -0400 (Sat, 13 Apr 2019).
| Package 822/1649 | Hostname | OS / Arch | INSTALL | BUILD | CHECK | BUILD BIN | ||||||
| KinSwingR 1.0.3 Ashley J. Waardenberg 
  | malbec1 | Linux (Ubuntu 16.04.6 LTS) / x86_64 | OK | OK | OK | |||||||
| tokay1 | Windows Server 2012 R2 Standard / x64 | OK | OK | OK | [ OK ] | |||||||
| merida1 | OS X 10.11.6 El Capitan / x86_64 | OK | OK | OK | OK | 
| Package: KinSwingR | 
| Version: 1.0.3 | 
| Command: rm -rf KinSwingR.buildbin-libdir && mkdir KinSwingR.buildbin-libdir && C:\Users\biocbuild\bbs-3.8-bioc\R\bin\R.exe CMD INSTALL --merge-multiarch --build --library=KinSwingR.buildbin-libdir KinSwingR_1.0.3.tar.gz | 
| StartedAt: 2019-04-13 07:34:04 -0400 (Sat, 13 Apr 2019) | 
| EndedAt: 2019-04-13 07:34:18 -0400 (Sat, 13 Apr 2019) | 
| EllapsedTime: 13.4 seconds | 
| RetCode: 0 | 
| Status: OK | 
| PackageFile: KinSwingR_1.0.3.zip | 
| PackageFileSize: 619.5 KiB | 
##############################################################################
##############################################################################
###
### Running command:
###
###   rm -rf KinSwingR.buildbin-libdir && mkdir KinSwingR.buildbin-libdir && C:\Users\biocbuild\bbs-3.8-bioc\R\bin\R.exe CMD INSTALL --merge-multiarch --build --library=KinSwingR.buildbin-libdir KinSwingR_1.0.3.tar.gz
###
##############################################################################
##############################################################################
install for i386
* installing *source* package 'KinSwingR' ...
** R
** data
*** moving datasets to lazyload DB
** inst
** byte-compile and prepare package for lazy loading
** help
*** installing help indices
  converting help for package 'KinSwingR'
    finding HTML links ... done
    KinSwingR                               html  
    buildPWM                                html  
    cleanAnnotation                         html  
    example_phosphoproteome                 html  
    phosphositeplus_human                   html  
    scoreSequences                          html  
    swing                                   html  
    viewPWM                                 html  
** building package indices
** installing vignettes
** testing if installed package can be loaded
In R CMD INSTALL
install for x64
* installing *source* package 'KinSwingR' ...
** testing if installed package can be loaded
* MD5 sums
packaged installation of 'KinSwingR' as KinSwingR_1.0.3.zip
* DONE (KinSwingR)
In R CMD INSTALL
In R CMD INSTALL