| Back to Multiple platform build/check report for BioC 3.8 | 
  | 
This page was generated on 2019-04-13 11:26:13 -0400 (Sat, 13 Apr 2019).
| Package 812/1649 | Hostname | OS / Arch | INSTALL | BUILD | CHECK | BUILD BIN | ||||||
| JunctionSeq 1.12.1 Stephen Hartley 
  | malbec1 | Linux (Ubuntu 16.04.6 LTS) / x86_64 | OK | OK | OK | |||||||
| tokay1 | Windows Server 2012 R2 Standard / x64 | OK | OK | OK | [ OK ] | |||||||
| merida1 | OS X 10.11.6 El Capitan / x86_64 | OK | OK | OK | OK | 
| Package: JunctionSeq | 
| Version: 1.12.1 | 
| Command: rm -rf JunctionSeq.buildbin-libdir && mkdir JunctionSeq.buildbin-libdir && C:\Users\biocbuild\bbs-3.8-bioc\R\bin\R.exe CMD INSTALL --merge-multiarch --build --library=JunctionSeq.buildbin-libdir JunctionSeq_1.12.1.tar.gz | 
| StartedAt: 2019-04-13 07:33:40 -0400 (Sat, 13 Apr 2019) | 
| EndedAt: 2019-04-13 07:34:57 -0400 (Sat, 13 Apr 2019) | 
| EllapsedTime: 76.9 seconds | 
| RetCode: 0 | 
| Status: OK | 
| PackageFile: JunctionSeq_1.12.1.zip | 
| PackageFileSize: 2.001 MiB | 
##############################################################################
##############################################################################
###
### Running command:
###
###   rm -rf JunctionSeq.buildbin-libdir && mkdir JunctionSeq.buildbin-libdir && C:\Users\biocbuild\bbs-3.8-bioc\R\bin\R.exe CMD INSTALL --merge-multiarch --build --library=JunctionSeq.buildbin-libdir JunctionSeq_1.12.1.tar.gz
###
##############################################################################
##############################################################################
install for i386
* installing *source* package 'JunctionSeq' ...
** libs
C:/Rtools/mingw_32/bin/g++  -I"C:/Users/BIOCBU˜1/BBS-3˜1.8-B/R/include" -DNDEBUG  -I"C:/Users/biocbuild/bbs-3.8-bioc/R/library/Rcpp/include" -I"C:/Users/biocbuild/bbs-3.8-bioc/R/library/RcppArmadillo/include"   -I"C:/extsoft/include"     -O2 -Wall  -mtune=generic -c DESeq2.cpp -o DESeq2.o
C:/Rtools/mingw_32/bin/g++  -I"C:/Users/BIOCBU˜1/BBS-3˜1.8-B/R/include" -DNDEBUG  -I"C:/Users/biocbuild/bbs-3.8-bioc/R/library/Rcpp/include" -I"C:/Users/biocbuild/bbs-3.8-bioc/R/library/RcppArmadillo/include"   -I"C:/extsoft/include"     -O2 -Wall  -mtune=generic -c RcppExports.cpp -o RcppExports.o
C:/Rtools/mingw_32/bin/g++ -shared -s -static-libgcc -o JunctionSeq.dll tmp.def DESeq2.o RcppExports.o -LC:/Users/BIOCBU˜1/BBS-3˜1.8-B/R/bin/i386 -lRlapack -LC:/Users/BIOCBU˜1/BBS-3˜1.8-B/R/bin/i386 -lRblas -lgfortran -lm -lquadmath -LC:/extsoft/lib/i386 -LC:/extsoft/lib -LC:/Users/BIOCBU˜1/BBS-3˜1.8-B/R/bin/i386 -lR
installing to C:/Users/biocbuild/bbs-3.8-bioc/meat/JunctionSeq.buildbin-libdir/JunctionSeq/libs/i386
** R
** inst
** byte-compile and prepare package for lazy loading
** help
*** installing help indices
  converting help for package 'JunctionSeq'
    finding HTML links ... done
    JunctionSeqCountSet-class               html  
    finding level-2 HTML links ... done
    buildAllPlots                           html  
    buildAllPlotsForGene                    html  
    defaultColorList                        html  
    estimateEffectSizes                     html  
    estimateJunctionSeqDispersions          html  
    estimateJunctionSeqSizeFactors          html  
    fitJunctionSeqDispersionFunction        html  
    plotDispEsts                            html  
    plotJunctionSeqResultsForGene           html  
    plotMA                                  html  
    readAnnotationData                      html  
    readJunctionSeqCounts                   html  
    runJunctionSeqAnalyses                  html  
    setJunctionSeqCompiledSourcePackage     html  
    testForDiffUsage                        html  
    writeBedTrack                           html  
    writeCompleteResults                    html  
** building package indices
** installing vignettes
** testing if installed package can be loaded
In R CMD INSTALL
install for x64
* installing *source* package 'JunctionSeq' ...
** libs
C:/Rtools/mingw_64/bin/g++  -I"C:/Users/BIOCBU˜1/BBS-3˜1.8-B/R/include" -DNDEBUG  -I"C:/Users/biocbuild/bbs-3.8-bioc/R/library/Rcpp/include" -I"C:/Users/biocbuild/bbs-3.8-bioc/R/library/RcppArmadillo/include"   -I"C:/extsoft/include"     -O2 -Wall  -mtune=generic -c DESeq2.cpp -o DESeq2.o
C:/Rtools/mingw_64/bin/g++  -I"C:/Users/BIOCBU˜1/BBS-3˜1.8-B/R/include" -DNDEBUG  -I"C:/Users/biocbuild/bbs-3.8-bioc/R/library/Rcpp/include" -I"C:/Users/biocbuild/bbs-3.8-bioc/R/library/RcppArmadillo/include"   -I"C:/extsoft/include"     -O2 -Wall  -mtune=generic -c RcppExports.cpp -o RcppExports.o
C:/Rtools/mingw_64/bin/g++ -shared -s -static-libgcc -o JunctionSeq.dll tmp.def DESeq2.o RcppExports.o -LC:/Users/BIOCBU˜1/BBS-3˜1.8-B/R/bin/x64 -lRlapack -LC:/Users/BIOCBU˜1/BBS-3˜1.8-B/R/bin/x64 -lRblas -lgfortran -lm -lquadmath -LC:/extsoft/lib/x64 -LC:/extsoft/lib -LC:/Users/BIOCBU˜1/BBS-3˜1.8-B/R/bin/x64 -lR
installing to C:/Users/biocbuild/bbs-3.8-bioc/meat/JunctionSeq.buildbin-libdir/JunctionSeq/libs/x64
** testing if installed package can be loaded
* MD5 sums
packaged installation of 'JunctionSeq' as JunctionSeq_1.12.1.zip
* DONE (JunctionSeq)
In R CMD INSTALL
In R CMD INSTALL