| Back to Multiple platform build/check report for BioC 3.8 | 
  | 
This page was generated on 2019-04-13 11:27:53 -0400 (Sat, 13 Apr 2019).
| Package 786/1649 | Hostname | OS / Arch | INSTALL | BUILD | CHECK | BUILD BIN | ||||||
| IntramiRExploreR 1.4.0 Surajit Bhattacharya 
  | malbec1 | Linux (Ubuntu 16.04.6 LTS) / x86_64 | OK | OK | OK | |||||||
| tokay1 | Windows Server 2012 R2 Standard / x64 | OK | OK | OK | [ OK ] | |||||||
| merida1 | OS X 10.11.6 El Capitan / x86_64 | OK | OK | OK | OK | 
| Package: IntramiRExploreR | 
| Version: 1.4.0 | 
| Command: rm -rf IntramiRExploreR.buildbin-libdir && mkdir IntramiRExploreR.buildbin-libdir && C:\Users\biocbuild\bbs-3.8-bioc\R\bin\R.exe CMD INSTALL --merge-multiarch --build --library=IntramiRExploreR.buildbin-libdir IntramiRExploreR_1.4.0.tar.gz | 
| StartedAt: 2019-04-13 07:32:17 -0400 (Sat, 13 Apr 2019) | 
| EndedAt: 2019-04-13 07:32:50 -0400 (Sat, 13 Apr 2019) | 
| EllapsedTime: 32.2 seconds | 
| RetCode: 0 | 
| Status: OK | 
| PackageFile: IntramiRExploreR_1.4.0.zip | 
| PackageFileSize: 13 MiB | 
##############################################################################
##############################################################################
###
### Running command:
###
###   rm -rf IntramiRExploreR.buildbin-libdir && mkdir IntramiRExploreR.buildbin-libdir && C:\Users\biocbuild\bbs-3.8-bioc\R\bin\R.exe CMD INSTALL --merge-multiarch --build --library=IntramiRExploreR.buildbin-libdir IntramiRExploreR_1.4.0.tar.gz
###
##############################################################################
##############################################################################
install for i386
* installing *source* package 'IntramiRExploreR' ...
** R
** data
*** moving datasets to lazyload DB
** inst
** byte-compile and prepare package for lazy loading
** help
*** installing help indices
  converting help for package 'IntramiRExploreR'
    finding HTML links ... done
    Affy1_Distance_Final                    html  
    Affy1_Pearson_Final                     html  
    Affy2_Distance_Final                    html  
    Affy2_Pearson_Final                     html  
    Gene_Visualisation                      html  
    GetGOS_ALL                              html  
    IntramiRExploreR                        html  
    Visualisation                           html  
    extract_HostGene                        html  
    extract_intragenic_miR                  html  
    genes_Stat                              html  
    miRNA_ID_to_Function                    html  
    miRNA_summary_DB                        html  
    miRTargets_Stat                         html  
** building package indices
** installing vignettes
** testing if installed package can be loaded
In R CMD INSTALL
install for x64
* installing *source* package 'IntramiRExploreR' ...
** testing if installed package can be loaded
* MD5 sums
packaged installation of 'IntramiRExploreR' as IntramiRExploreR_1.4.0.zip
* DONE (IntramiRExploreR)
In R CMD INSTALL
In R CMD INSTALL