| Back to Multiple platform build/check report for BioC 3.8 |
|
This page was generated on 2019-04-16 12:08:41 -0400 (Tue, 16 Apr 2019).
| Package 779/1649 | Hostname | OS / Arch | INSTALL | BUILD | CHECK | BUILD BIN | ||||||
| InTAD 1.2.3 Konstantin Okonechnikov
| malbec1 | Linux (Ubuntu 16.04.6 LTS) / x86_64 | OK | OK | OK | |||||||
| merida1 | OS X 10.11.6 El Capitan / x86_64 | OK | OK | OK | [ OK ] |
| Package: InTAD |
| Version: 1.2.3 |
| Command: rm -rf InTAD.buildbin-libdir && mkdir InTAD.buildbin-libdir && /Users/biocbuild/BBS/utils/build-universal.sh InTAD_1.2.3.tar.gz /Library/Frameworks/R.framework/Versions/Current/Resources/bin/R InTAD.buildbin-libdir |
| StartedAt: 2019-04-16 04:14:49 -0400 (Tue, 16 Apr 2019) |
| EndedAt: 2019-04-16 04:15:36 -0400 (Tue, 16 Apr 2019) |
| EllapsedTime: 46.3 seconds |
| RetCode: 0 |
| Status: OK |
| PackageFile: InTAD_1.2.3.tgz |
| PackageFileSize: 1.325 MiB |
############################################################################## ############################################################################## ### ### Running command: ### ### rm -rf InTAD.buildbin-libdir && mkdir InTAD.buildbin-libdir && /Users/biocbuild/BBS/utils/build-universal.sh InTAD_1.2.3.tar.gz /Library/Frameworks/R.framework/Versions/Current/Resources/bin/R InTAD.buildbin-libdir ### ############################################################################## ############################################################################## >>>>>>> >>>>>>> INSTALLATION WITH 'R CMD INSTALL --preclean --no-multiarch --library=InTAD.buildbin-libdir InTAD_1.2.3.tar.gz' >>>>>>> * installing *source* package ‘InTAD’ ... ** R ** data *** moving datasets to lazyload DB ** inst ** byte-compile and prepare package for lazy loading ** help *** installing help indices ** building package indices ** installing vignettes ** testing if installed package can be loaded * DONE (InTAD)