| Back to Multiple platform build/check report for BioC 3.8 | 
  | 
This page was generated on 2019-04-13 11:22:04 -0400 (Sat, 13 Apr 2019).
| Package 759/1649 | Hostname | OS / Arch | INSTALL | BUILD | CHECK | BUILD BIN | ||||||
| IdMappingAnalysis 1.26.0 Alex Lisovich 
  | malbec1 | Linux (Ubuntu 16.04.6 LTS) / x86_64 | OK | OK | OK | |||||||
| tokay1 | Windows Server 2012 R2 Standard / x64 | OK | [ OK ] | OK | OK | |||||||
| merida1 | OS X 10.11.6 El Capitan / x86_64 | OK | OK | OK | OK | 
| Package: IdMappingAnalysis | 
| Version: 1.26.0 | 
| Command: chmod a+r IdMappingAnalysis -R && C:\Users\biocbuild\bbs-3.8-bioc\R\bin\R.exe CMD build --keep-empty-dirs --no-resave-data IdMappingAnalysis | 
| StartedAt: 2019-04-12 21:30:14 -0400 (Fri, 12 Apr 2019) | 
| EndedAt: 2019-04-12 21:31:22 -0400 (Fri, 12 Apr 2019) | 
| EllapsedTime: 68.1 seconds | 
| RetCode: 0 | 
| Status: OK | 
| PackageFile: IdMappingAnalysis_1.26.0.tar.gz | 
| PackageFileSize: 1.911 MiB | 
##############################################################################
##############################################################################
###
### Running command:
###
###   chmod a+r IdMappingAnalysis -R && C:\Users\biocbuild\bbs-3.8-bioc\R\bin\R.exe CMD build --keep-empty-dirs --no-resave-data IdMappingAnalysis
###
##############################################################################
##############################################################################
* checking for file 'IdMappingAnalysis/DESCRIPTION' ... OK
* preparing 'IdMappingAnalysis':
* checking DESCRIPTION meta-information ... OK
* installing the package to build vignettes
* creating vignettes ... OK
Warning: 'inst/doc' file
    'IdMappingAnalysis.Rnw'
  ignored as vignettes have been rebuilt.
  Run R CMD build with --no-build-vignettes to prevent rebuilding.
* checking for LF line-endings in source and make files and shell scripts
* checking for empty or unneeded directories
* looking to see if a 'data/datalist' file should be added
* building 'IdMappingAnalysis_1.26.0.tar.gz'