| Back to Multiple platform build/check report for BioC 3.8 |
|
This page was generated on 2019-04-16 11:47:53 -0400 (Tue, 16 Apr 2019).
| Package 793/1649 | Hostname | OS / Arch | INSTALL | BUILD | CHECK | BUILD BIN | ||||||
| IRanges 2.16.0 Bioconductor Package Maintainer
| malbec1 | Linux (Ubuntu 16.04.6 LTS) / x86_64 | OK | [ OK ] | WARNINGS | |||||||
| merida1 | OS X 10.11.6 El Capitan / x86_64 | OK | OK | WARNINGS | OK |
| Package: IRanges |
| Version: 2.16.0 |
| Command: /home/biocbuild/bbs-3.8-bioc/R/bin/R CMD build --keep-empty-dirs --no-resave-data IRanges |
| StartedAt: 2019-04-15 18:37:56 -0400 (Mon, 15 Apr 2019) |
| EndedAt: 2019-04-15 18:38:57 -0400 (Mon, 15 Apr 2019) |
| EllapsedTime: 61.7 seconds |
| RetCode: 0 |
| Status: OK |
| PackageFile: IRanges_2.16.0.tar.gz |
| PackageFileSize: 446.7 KiB |
############################################################################## ############################################################################## ### ### Running command: ### ### /home/biocbuild/bbs-3.8-bioc/R/bin/R CMD build --keep-empty-dirs --no-resave-data IRanges ### ############################################################################## ############################################################################## * checking for file ‘IRanges/DESCRIPTION’ ... OK * preparing ‘IRanges’: * checking DESCRIPTION meta-information ... OK * cleaning src * installing the package to build vignettes * creating vignettes ... OK * cleaning src * checking for LF line-endings in source and make files and shell scripts * checking for empty or unneeded directories * building ‘IRanges_2.16.0.tar.gz’