| Back to Multiple platform build/check report for BioC 3.8 |
|
This page was generated on 2019-04-16 11:58:49 -0400 (Tue, 16 Apr 2019).
| Package 778/1649 | Hostname | OS / Arch | INSTALL | BUILD | CHECK | BUILD BIN | ||||||
| INSPEcT 1.12.2 Stefano de Pretis
| malbec1 | Linux (Ubuntu 16.04.6 LTS) / x86_64 | OK | OK | OK | |||||||
| merida1 | OS X 10.11.6 El Capitan / x86_64 | OK | OK | OK | [ OK ] |
| Package: INSPEcT |
| Version: 1.12.2 |
| Command: rm -rf INSPEcT.buildbin-libdir && mkdir INSPEcT.buildbin-libdir && /Users/biocbuild/BBS/utils/build-universal.sh INSPEcT_1.12.2.tar.gz /Library/Frameworks/R.framework/Versions/Current/Resources/bin/R INSPEcT.buildbin-libdir |
| StartedAt: 2019-04-16 04:14:46 -0400 (Tue, 16 Apr 2019) |
| EndedAt: 2019-04-16 04:15:33 -0400 (Tue, 16 Apr 2019) |
| EllapsedTime: 46.2 seconds |
| RetCode: 0 |
| Status: OK |
| PackageFile: INSPEcT_1.12.2.tgz |
| PackageFileSize: 4.904 MiB |
############################################################################## ############################################################################## ### ### Running command: ### ### rm -rf INSPEcT.buildbin-libdir && mkdir INSPEcT.buildbin-libdir && /Users/biocbuild/BBS/utils/build-universal.sh INSPEcT_1.12.2.tar.gz /Library/Frameworks/R.framework/Versions/Current/Resources/bin/R INSPEcT.buildbin-libdir ### ############################################################################## ############################################################################## >>>>>>> >>>>>>> INSTALLATION WITH 'R CMD INSTALL --preclean --no-multiarch --library=INSPEcT.buildbin-libdir INSPEcT_1.12.2.tar.gz' >>>>>>> * installing *source* package ‘INSPEcT’ ... ** R ** data ** inst ** byte-compile and prepare package for lazy loading ** help *** installing help indices ** building package indices ** installing vignettes ** testing if installed package can be loaded * DONE (INSPEcT)