| Back to Multiple platform build/check report for BioC 3.8 | 
 | 
This page was generated on 2019-04-16 11:54:57 -0400 (Tue, 16 Apr 2019).
| Package 724/1649 | Hostname | OS / Arch | INSTALL | BUILD | CHECK | BUILD BIN | ||||||
| HilbertVis 1.40.0 Simon Anders 
 | malbec1 | Linux (Ubuntu 16.04.6 LTS) / x86_64 | OK | OK | OK |  | ||||||
| merida1 | OS X 10.11.6 El Capitan / x86_64 | OK | [ OK ] | WARNINGS | OK |  | 
| Package: HilbertVis | 
| Version: 1.40.0 | 
| Command: /Library/Frameworks/R.framework/Versions/Current/Resources/bin/R CMD build --keep-empty-dirs --no-resave-data HilbertVis | 
| StartedAt: 2019-04-15 19:08:13 -0400 (Mon, 15 Apr 2019) | 
| EndedAt: 2019-04-15 19:08:38 -0400 (Mon, 15 Apr 2019) | 
| EllapsedTime: 24.8 seconds | 
| RetCode: 0 | 
| Status: OK | 
| PackageFile: HilbertVis_1.40.0.tar.gz | 
| PackageFileSize: 1019 KiB | 
############################################################################## ############################################################################## ### ### Running command: ### ### /Library/Frameworks/R.framework/Versions/Current/Resources/bin/R CMD build --keep-empty-dirs --no-resave-data HilbertVis ### ############################################################################## ############################################################################## * checking for file ‘HilbertVis/DESCRIPTION’ ... OK * preparing ‘HilbertVis’: * checking DESCRIPTION meta-information ... OK * cleaning src * installing the package to build vignettes * creating vignettes ... OK * cleaning src * checking for LF line-endings in source and make files and shell scripts * checking for empty or unneeded directories * building ‘HilbertVis_1.40.0.tar.gz’