| Back to Multiple platform build/check report for BioC 3.8 | 
  | 
This page was generated on 2019-04-16 11:58:52 -0400 (Tue, 16 Apr 2019).
| Package 723/1649 | Hostname | OS / Arch | INSTALL | BUILD | CHECK | BUILD BIN | ||||||
| HilbertCurve 1.12.0 Zuguang Gu 
  | malbec1 | Linux (Ubuntu 16.04.6 LTS) / x86_64 | OK | OK | OK | |||||||
| merida1 | OS X 10.11.6 El Capitan / x86_64 | OK | OK | OK | [ OK ] | 
| Package: HilbertCurve | 
| Version: 1.12.0 | 
| Command: rm -rf HilbertCurve.buildbin-libdir && mkdir HilbertCurve.buildbin-libdir && /Users/biocbuild/BBS/utils/build-universal.sh HilbertCurve_1.12.0.tar.gz /Library/Frameworks/R.framework/Versions/Current/Resources/bin/R HilbertCurve.buildbin-libdir | 
| StartedAt: 2019-04-16 04:12:21 -0400 (Tue, 16 Apr 2019) | 
| EndedAt: 2019-04-16 04:13:05 -0400 (Tue, 16 Apr 2019) | 
| EllapsedTime: 43.7 seconds | 
| RetCode: 0 | 
| Status: OK | 
| PackageFile: HilbertCurve_1.12.0.tgz | 
| PackageFileSize: 7.311 MiB | 
############################################################################## ############################################################################## ### ### Running command: ### ### rm -rf HilbertCurve.buildbin-libdir && mkdir HilbertCurve.buildbin-libdir && /Users/biocbuild/BBS/utils/build-universal.sh HilbertCurve_1.12.0.tar.gz /Library/Frameworks/R.framework/Versions/Current/Resources/bin/R HilbertCurve.buildbin-libdir ### ############################################################################## ############################################################################## >>>>>>> >>>>>>> INSTALLATION WITH 'R CMD INSTALL --preclean --no-multiarch --library=HilbertCurve.buildbin-libdir HilbertCurve_1.12.0.tar.gz' >>>>>>> * installing *source* package ‘HilbertCurve’ ... ** R ** inst ** byte-compile and prepare package for lazy loading ** help *** installing help indices ** building package indices ** installing vignettes ** testing if installed package can be loaded * DONE (HilbertCurve)