| Back to Multiple platform build/check report for BioC 3.8 | 
 | 
This page was generated on 2019-04-16 11:52:55 -0400 (Tue, 16 Apr 2019).
| Package 719/1649 | Hostname | OS / Arch | INSTALL | BUILD | CHECK | BUILD BIN | ||||||
| HiCcompare 1.4.0 John Stansfield 
 | malbec1 | Linux (Ubuntu 16.04.6 LTS) / x86_64 | OK | [ OK ] | OK |  | ||||||
| merida1 | OS X 10.11.6 El Capitan / x86_64 | OK | OK | OK | OK |  | 
| Package: HiCcompare | 
| Version: 1.4.0 | 
| Command: /home/biocbuild/bbs-3.8-bioc/R/bin/R CMD build --keep-empty-dirs --no-resave-data HiCcompare | 
| StartedAt: 2019-04-15 21:23:42 -0400 (Mon, 15 Apr 2019) | 
| EndedAt: 2019-04-15 21:31:59 -0400 (Mon, 15 Apr 2019) | 
| EllapsedTime: 496.4 seconds | 
| RetCode: 0 | 
| Status: OK | 
| PackageFile: HiCcompare_1.4.0.tar.gz | 
| PackageFileSize: 3.531 MiB | 
############################################################################## ############################################################################## ### ### Running command: ### ### /home/biocbuild/bbs-3.8-bioc/R/bin/R CMD build --keep-empty-dirs --no-resave-data HiCcompare ### ############################################################################## ############################################################################## * checking for file ‘HiCcompare/DESCRIPTION’ ... OK * preparing ‘HiCcompare’: * checking DESCRIPTION meta-information ... OK * installing the package to build vignettes * creating vignettes ... OK * checking for LF line-endings in source and make files and shell scripts * checking for empty or unneeded directories * looking to see if a ‘data/datalist’ file should be added * building ‘HiCcompare_1.4.0.tar.gz’