| Back to Multiple platform build/check report for BioC 3.8 |
|
This page was generated on 2019-04-16 11:59:21 -0400 (Tue, 16 Apr 2019).
| Package 709/1649 | Hostname | OS / Arch | INSTALL | BUILD | CHECK | BUILD BIN | ||||||
| HDF5Array 1.10.1 Hervé Pagès
| malbec1 | Linux (Ubuntu 16.04.6 LTS) / x86_64 | OK | OK | OK | |||||||
| merida1 | OS X 10.11.6 El Capitan / x86_64 | OK | OK | OK | [ OK ] |
| Package: HDF5Array |
| Version: 1.10.1 |
| Command: rm -rf HDF5Array.buildbin-libdir && mkdir HDF5Array.buildbin-libdir && /Users/biocbuild/BBS/utils/build-universal.sh HDF5Array_1.10.1.tar.gz /Library/Frameworks/R.framework/Versions/Current/Resources/bin/R HDF5Array.buildbin-libdir |
| StartedAt: 2019-04-16 04:11:41 -0400 (Tue, 16 Apr 2019) |
| EndedAt: 2019-04-16 04:12:24 -0400 (Tue, 16 Apr 2019) |
| EllapsedTime: 43.5 seconds |
| RetCode: 0 |
| Status: OK |
| PackageFile: HDF5Array_1.10.1.tgz |
| PackageFileSize: 7.983 MiB |
############################################################################## ############################################################################## ### ### Running command: ### ### rm -rf HDF5Array.buildbin-libdir && mkdir HDF5Array.buildbin-libdir && /Users/biocbuild/BBS/utils/build-universal.sh HDF5Array_1.10.1.tar.gz /Library/Frameworks/R.framework/Versions/Current/Resources/bin/R HDF5Array.buildbin-libdir ### ############################################################################## ############################################################################## >>>>>>> >>>>>>> INSTALLATION WITH 'R CMD INSTALL --preclean --no-multiarch --library=HDF5Array.buildbin-libdir HDF5Array_1.10.1.tar.gz' >>>>>>> * installing *source* package ‘HDF5Array’ ... ** R ** inst ** byte-compile and prepare package for lazy loading ** help *** installing help indices ** building package indices ** testing if installed package can be loaded * DONE (HDF5Array)