Back to Multiple platform build/check report for BioC 3.8 |
|
This page was generated on 2019-04-13 11:25:56 -0400 (Sat, 13 Apr 2019).
Package 700/1649 | Hostname | OS / Arch | INSTALL | BUILD | CHECK | BUILD BIN | ||||||
Guitar 1.20.1 Jia Meng
| malbec1 | Linux (Ubuntu 16.04.6 LTS) / x86_64 | OK | OK | OK | ![]() | ||||||
tokay1 | Windows Server 2012 R2 Standard / x64 | OK | OK | OK | [ OK ] | ![]() | ||||||
merida1 | OS X 10.11.6 El Capitan / x86_64 | OK | OK | OK | OK | ![]() |
Package: Guitar |
Version: 1.20.1 |
Command: rm -rf Guitar.buildbin-libdir && mkdir Guitar.buildbin-libdir && C:\Users\biocbuild\bbs-3.8-bioc\R\bin\R.exe CMD INSTALL --merge-multiarch --build --library=Guitar.buildbin-libdir Guitar_1.20.1.tar.gz |
StartedAt: 2019-04-13 07:24:00 -0400 (Sat, 13 Apr 2019) |
EndedAt: 2019-04-13 07:26:33 -0400 (Sat, 13 Apr 2019) |
EllapsedTime: 153.3 seconds |
RetCode: 0 |
Status: OK |
PackageFile: Guitar_1.20.1.zip |
PackageFileSize: 2.647 MiB |
############################################################################## ############################################################################## ### ### Running command: ### ### rm -rf Guitar.buildbin-libdir && mkdir Guitar.buildbin-libdir && C:\Users\biocbuild\bbs-3.8-bioc\R\bin\R.exe CMD INSTALL --merge-multiarch --build --library=Guitar.buildbin-libdir Guitar_1.20.1.tar.gz ### ############################################################################## ############################################################################## install for i386 * installing *source* package 'Guitar' ... ** R ** inst ** byte-compile and prepare package for lazy loading ** help *** installing help indices converting help for package 'Guitar' finding HTML links ... done BED12toGRangesList html Guitar-package html GuitarPlot html combinedGuitarPlot html getNeighborhood html makeGuitarCoordsFromGRangesList html makeGuitarCoordsFromTxDb html narrowPeaktoGRanges html ** building package indices ** installing vignettes ** testing if installed package can be loaded In R CMD INSTALL install for x64 * installing *source* package 'Guitar' ... ** testing if installed package can be loaded * MD5 sums packaged installation of 'Guitar' as Guitar_1.20.1.zip * DONE (Guitar) In R CMD INSTALL In R CMD INSTALL