| Back to Multiple platform build/check report for BioC 3.8 | 
  | 
This page was generated on 2019-04-13 11:19:27 -0400 (Sat, 13 Apr 2019).
| Package 680/1649 | Hostname | OS / Arch | INSTALL | BUILD | CHECK | BUILD BIN | ||||||
| GraphAT 1.54.0 Thomas LaFramboise 
  | malbec1 | Linux (Ubuntu 16.04.6 LTS) / x86_64 | OK | OK | OK | |||||||
| tokay1 | Windows Server 2012 R2 Standard / x64 | OK | OK | OK | [ OK ] | |||||||
| merida1 | OS X 10.11.6 El Capitan / x86_64 | OK | OK | OK | OK | 
| Package: GraphAT | 
| Version: 1.54.0 | 
| Command: rm -rf GraphAT.buildbin-libdir && mkdir GraphAT.buildbin-libdir && C:\Users\biocbuild\bbs-3.8-bioc\R\bin\R.exe CMD INSTALL --merge-multiarch --build --library=GraphAT.buildbin-libdir GraphAT_1.54.0.tar.gz | 
| StartedAt: 2019-04-13 07:21:19 -0400 (Sat, 13 Apr 2019) | 
| EndedAt: 2019-04-13 07:21:45 -0400 (Sat, 13 Apr 2019) | 
| EllapsedTime: 26.5 seconds | 
| RetCode: 0 | 
| Status: OK | 
| PackageFile: GraphAT_1.54.0.zip | 
| PackageFileSize: 1.932 MiB | 
##############################################################################
##############################################################################
###
### Running command:
###
###   rm -rf GraphAT.buildbin-libdir && mkdir GraphAT.buildbin-libdir && C:\Users\biocbuild\bbs-3.8-bioc\R\bin\R.exe CMD INSTALL --merge-multiarch --build --library=GraphAT.buildbin-libdir GraphAT_1.54.0.tar.gz
###
##############################################################################
##############################################################################
install for i386
* installing *source* package 'GraphAT' ...
** R
** data
** byte-compile and prepare package for lazy loading
** help
*** installing help indices
  converting help for package 'GraphAT'
    finding HTML links ... done
    Phenoclusters                           html  
    causton                                 html  
    cellcycle                               html  
    clust2Mat                               html  
    depthmat                                html  
    getpvalue                               html  
    giaever                                 html  
    mRNAclusters                            html  
    makeClustM                              html  
    mat2UndirG                              html  
    permPower                               html  
    perms                                   html  
** building package indices
** testing if installed package can be loaded
In R CMD INSTALL
install for x64
* installing *source* package 'GraphAT' ...
** testing if installed package can be loaded
* MD5 sums
packaged installation of 'GraphAT' as GraphAT_1.54.0.zip
* DONE (GraphAT)
In R CMD INSTALL
In R CMD INSTALL