| Back to Multiple platform build/check report for BioC 3.8 | 
  | 
This page was generated on 2019-04-13 11:28:57 -0400 (Sat, 13 Apr 2019).
| Package 610/1649 | Hostname | OS / Arch | INSTALL | BUILD | CHECK | BUILD BIN | ||||||
| GeneStructureTools 1.2.1 Beth Signal 
  | malbec1 | Linux (Ubuntu 16.04.6 LTS) / x86_64 | OK | OK | OK | |||||||
| tokay1 | Windows Server 2012 R2 Standard / x64 | [ OK ] | OK | OK | OK | |||||||
| merida1 | OS X 10.11.6 El Capitan / x86_64 | OK | OK | OK | OK | 
| Package: GeneStructureTools | 
| Version: 1.2.1 | 
| Command: C:\cygwin\bin\curl.exe -O https://malbec1.bioconductor.org/BBS/3.8/bioc/src/contrib/GeneStructureTools_1.2.1.tar.gz && rm -rf GeneStructureTools.buildbin-libdir && mkdir GeneStructureTools.buildbin-libdir && C:\Users\biocbuild\bbs-3.8-bioc\R\bin\R.exe CMD INSTALL --merge-multiarch --build --library=GeneStructureTools.buildbin-libdir GeneStructureTools_1.2.1.tar.gz && C:\Users\biocbuild\bbs-3.8-bioc\R\bin\R.exe CMD INSTALL GeneStructureTools_1.2.1.zip && rm GeneStructureTools_1.2.1.tar.gz GeneStructureTools_1.2.1.zip | 
| StartedAt: 2019-04-12 20:22:02 -0400 (Fri, 12 Apr 2019) | 
| EndedAt: 2019-04-12 20:24:22 -0400 (Fri, 12 Apr 2019) | 
| EllapsedTime: 140.3 seconds | 
| RetCode: 0 | 
| Status: OK | 
##############################################################################
##############################################################################
###
### Running command:
###
###   C:\cygwin\bin\curl.exe -O https://malbec1.bioconductor.org/BBS/3.8/bioc/src/contrib/GeneStructureTools_1.2.1.tar.gz && rm -rf GeneStructureTools.buildbin-libdir && mkdir GeneStructureTools.buildbin-libdir && C:\Users\biocbuild\bbs-3.8-bioc\R\bin\R.exe CMD INSTALL --merge-multiarch --build --library=GeneStructureTools.buildbin-libdir GeneStructureTools_1.2.1.tar.gz && C:\Users\biocbuild\bbs-3.8-bioc\R\bin\R.exe CMD INSTALL GeneStructureTools_1.2.1.zip && rm GeneStructureTools_1.2.1.tar.gz GeneStructureTools_1.2.1.zip
###
##############################################################################
##############################################################################
  % Total    % Received % Xferd  Average Speed   Time    Time     Time  Current
                                 Dload  Upload   Total   Spent    Left  Speed
  0     0    0     0    0     0      0      0 --:--:-- --:--:-- --:--:--     0
100  987k  100  987k    0     0  20.6M      0 --:--:-- --:--:-- --:--:-- 22.4M
install for i386
* installing *source* package 'GeneStructureTools' ...
** R
** inst
** byte-compile and prepare package for lazy loading
** help
*** installing help indices
  converting help for package 'GeneStructureTools'
    finding HTML links ... done
    DEXSeqIdsToGeneIds                      html  
    UTR2UTR53                               html  
    addBroadTypes                           html  
    addIntronInTranscript                   html  
    addSets                                 html  
    alternativeIntronUsage                  html  
    annotateGeneModel                       html  
    attrChangeAltSpliced                    html  
    coordinates-methods                     html  
    cumsumANDpad                            html  
    diffSplicingResults-methods             html  
    exonsToTranscripts                      html  
    filterGtfOverlap                        html  
    filterWhippetEvents                     html  
    findDEXexonType                         html  
    findExonContainingTranscripts           html  
    findIntronContainingTranscripts         html  
    findJunctionPairs                       html  
    formatWhippetEvents                     html  
    getOrfs                                 html  
    getUOrfs                                html  
    junctions-methods                       html  
    leafcutterTranscriptChangeSummary       html  
    makeGeneModel                           html  
    maxLocation                             html  
    orfDiff                                 html  
    orfSimilarity                           html  
    overlapTypes                            html  
    readCounts-methods                      html  
    readWhippetDIFFfiles                    html  
    readWhippetDataSet                      html  
    readWhippetJNCfiles                     html  
    readWhippetPSIfiles                     html  
    removeDuplicateTranscripts              html  
    removeSameExon                          html  
    removeVersion                           html  
    reorderExonNumbers                      html  
    replaceJunction                         html  
    skipExonInTranscript                    html  
    summariseExonTypes                      html  
    transcriptChangeSummary                 html  
    whippetDataSet-class                    html  
    whippetTranscriptChangeSummary          html  
** building package indices
** installing vignettes
** testing if installed package can be loaded
In R CMD INSTALL
install for x64
* installing *source* package 'GeneStructureTools' ...
** testing if installed package can be loaded
* MD5 sums
packaged installation of 'GeneStructureTools' as GeneStructureTools_1.2.1.zip
* DONE (GeneStructureTools)
In R CMD INSTALL
In R CMD INSTALL
* installing to library 'C:/Users/biocbuild/bbs-3.8-bioc/R/library'
package 'GeneStructureTools' successfully unpacked and MD5 sums checked
In R CMD INSTALL