| Back to Multiple platform build/check report for BioC 3.8 |
|
This page was generated on 2019-04-16 11:55:07 -0400 (Tue, 16 Apr 2019).
| Package 590/1649 | Hostname | OS / Arch | INSTALL | BUILD | CHECK | BUILD BIN | ||||||
| GeneAnswers 2.24.0 Lei Huang
| malbec1 | Linux (Ubuntu 16.04.6 LTS) / x86_64 | OK | OK | WARNINGS | |||||||
| merida1 | OS X 10.11.6 El Capitan / x86_64 | OK | OK | WARNINGS | [ OK ] |
| Package: GeneAnswers |
| Version: 2.24.0 |
| Command: rm -rf GeneAnswers.buildbin-libdir && mkdir GeneAnswers.buildbin-libdir && /Users/biocbuild/BBS/utils/build-universal.sh GeneAnswers_2.24.0.tar.gz /Library/Frameworks/R.framework/Versions/Current/Resources/bin/R GeneAnswers.buildbin-libdir |
| StartedAt: 2019-04-16 04:06:07 -0400 (Tue, 16 Apr 2019) |
| EndedAt: 2019-04-16 04:06:49 -0400 (Tue, 16 Apr 2019) |
| EllapsedTime: 41.9 seconds |
| RetCode: 0 |
| Status: OK |
| PackageFile: GeneAnswers_2.24.0.tgz |
| PackageFileSize: 33.17 MiB |
############################################################################## ############################################################################## ### ### Running command: ### ### rm -rf GeneAnswers.buildbin-libdir && mkdir GeneAnswers.buildbin-libdir && /Users/biocbuild/BBS/utils/build-universal.sh GeneAnswers_2.24.0.tar.gz /Library/Frameworks/R.framework/Versions/Current/Resources/bin/R GeneAnswers.buildbin-libdir ### ############################################################################## ############################################################################## >>>>>>> >>>>>>> INSTALLATION WITH 'R CMD INSTALL --preclean --no-multiarch --library=GeneAnswers.buildbin-libdir GeneAnswers_2.24.0.tar.gz' >>>>>>> * installing *source* package ‘GeneAnswers’ ... ** R ** data ** inst ** byte-compile and prepare package for lazy loading Warning: replacing previous import ‘stats::decompose’ by ‘igraph::decompose’ when loading ‘GeneAnswers’ Warning: replacing previous import ‘stats::spectrum’ by ‘igraph::spectrum’ when loading ‘GeneAnswers’ ** help *** installing help indices ** building package indices ** installing vignettes ** testing if installed package can be loaded Warning: replacing previous import ‘stats::decompose’ by ‘igraph::decompose’ when loading ‘GeneAnswers’ Warning: replacing previous import ‘stats::spectrum’ by ‘igraph::spectrum’ when loading ‘GeneAnswers’ * DONE (GeneAnswers)