Back to Multiple platform build/check report for BioC 3.8 |
|
This page was generated on 2019-04-16 12:08:11 -0400 (Tue, 16 Apr 2019).
Package 574/1649 | Hostname | OS / Arch | INSTALL | BUILD | CHECK | BUILD BIN | ||||||
GateFinder 1.2.1 Nima Aghaeepour
| malbec1 | Linux (Ubuntu 16.04.6 LTS) / x86_64 | OK | OK | OK | ![]() | ||||||
merida1 | OS X 10.11.6 El Capitan / x86_64 | OK | OK | OK | [ OK ] | ![]() |
Package: GateFinder |
Version: 1.2.1 |
Command: rm -rf GateFinder.buildbin-libdir && mkdir GateFinder.buildbin-libdir && /Users/biocbuild/BBS/utils/build-universal.sh GateFinder_1.2.1.tar.gz /Library/Frameworks/R.framework/Versions/Current/Resources/bin/R GateFinder.buildbin-libdir |
StartedAt: 2019-04-16 04:05:23 -0400 (Tue, 16 Apr 2019) |
EndedAt: 2019-04-16 04:06:07 -0400 (Tue, 16 Apr 2019) |
EllapsedTime: 44.2 seconds |
RetCode: 0 |
Status: OK |
PackageFile: GateFinder_1.2.1.tgz |
PackageFileSize: 1010 KiB |
############################################################################## ############################################################################## ### ### Running command: ### ### rm -rf GateFinder.buildbin-libdir && mkdir GateFinder.buildbin-libdir && /Users/biocbuild/BBS/utils/build-universal.sh GateFinder_1.2.1.tar.gz /Library/Frameworks/R.framework/Versions/Current/Resources/bin/R GateFinder.buildbin-libdir ### ############################################################################## ############################################################################## >>>>>>> >>>>>>> INSTALLATION WITH 'R CMD INSTALL --preclean --no-multiarch --library=GateFinder.buildbin-libdir GateFinder_1.2.1.tar.gz' >>>>>>> * installing *source* package ‘GateFinder’ ... ** R ** data ** inst ** byte-compile and prepare package for lazy loading ** help *** installing help indices ** building package indices ** installing vignettes ** testing if installed package can be loaded * DONE (GateFinder)