| Back to Multiple platform build/check report for BioC 3.8 |
|
This page was generated on 2019-04-16 11:50:48 -0400 (Tue, 16 Apr 2019).
| Package 670/1649 | Hostname | OS / Arch | INSTALL | BUILD | CHECK | BUILD BIN | ||||||
| GOsummaries 2.18.0 Raivo Kolde
| malbec1 | Linux (Ubuntu 16.04.6 LTS) / x86_64 | OK | [ OK ] | OK | |||||||
| merida1 | OS X 10.11.6 El Capitan / x86_64 | OK | OK | OK | OK |
| Package: GOsummaries |
| Version: 2.18.0 |
| Command: /home/biocbuild/bbs-3.8-bioc/R/bin/R CMD build --keep-empty-dirs --no-resave-data GOsummaries |
| StartedAt: 2019-04-15 19:52:28 -0400 (Mon, 15 Apr 2019) |
| EndedAt: 2019-04-15 19:53:13 -0400 (Mon, 15 Apr 2019) |
| EllapsedTime: 45.2 seconds |
| RetCode: 0 |
| Status: OK |
| PackageFile: GOsummaries_2.18.0.tar.gz |
| PackageFileSize: 2.38 MiB |
############################################################################## ############################################################################## ### ### Running command: ### ### /home/biocbuild/bbs-3.8-bioc/R/bin/R CMD build --keep-empty-dirs --no-resave-data GOsummaries ### ############################################################################## ############################################################################## * checking for file ‘GOsummaries/DESCRIPTION’ ... OK * preparing ‘GOsummaries’: * checking DESCRIPTION meta-information ... OK * cleaning src * installing the package to build vignettes * creating vignettes ... OK * cleaning src * checking for LF line-endings in source and make files and shell scripts * checking for empty or unneeded directories * looking to see if a ‘data/datalist’ file should be added * building ‘GOsummaries_2.18.0.tar.gz’