Back to Multiple platform build/check report for BioC 3.8 |
|
This page was generated on 2019-04-13 11:29:26 -0400 (Sat, 13 Apr 2019).
Package 658/1649 | Hostname | OS / Arch | INSTALL | BUILD | CHECK | BUILD BIN | ||||||
GMRP 1.10.1 Yuan-De Tan
| malbec1 | Linux (Ubuntu 16.04.6 LTS) / x86_64 | OK | OK | WARNINGS | ![]() | ||||||
tokay1 | Windows Server 2012 R2 Standard / x64 | [ OK ] | OK | WARNINGS | OK | ![]() | ||||||
merida1 | OS X 10.11.6 El Capitan / x86_64 | OK | OK | WARNINGS | OK | ![]() |
Package: GMRP |
Version: 1.10.1 |
Command: C:\cygwin\bin\curl.exe -O https://malbec1.bioconductor.org/BBS/3.8/bioc/src/contrib/GMRP_1.10.1.tar.gz && rm -rf GMRP.buildbin-libdir && mkdir GMRP.buildbin-libdir && C:\Users\biocbuild\bbs-3.8-bioc\R\bin\R.exe CMD INSTALL --merge-multiarch --build --library=GMRP.buildbin-libdir GMRP_1.10.1.tar.gz && C:\Users\biocbuild\bbs-3.8-bioc\R\bin\R.exe CMD INSTALL GMRP_1.10.1.zip && rm GMRP_1.10.1.tar.gz GMRP_1.10.1.zip |
StartedAt: 2019-04-12 19:34:11 -0400 (Fri, 12 Apr 2019) |
EndedAt: 2019-04-12 19:34:51 -0400 (Fri, 12 Apr 2019) |
EllapsedTime: 39.4 seconds |
RetCode: 0 |
Status: OK |
############################################################################## ############################################################################## ### ### Running command: ### ### C:\cygwin\bin\curl.exe -O https://malbec1.bioconductor.org/BBS/3.8/bioc/src/contrib/GMRP_1.10.1.tar.gz && rm -rf GMRP.buildbin-libdir && mkdir GMRP.buildbin-libdir && C:\Users\biocbuild\bbs-3.8-bioc\R\bin\R.exe CMD INSTALL --merge-multiarch --build --library=GMRP.buildbin-libdir GMRP_1.10.1.tar.gz && C:\Users\biocbuild\bbs-3.8-bioc\R\bin\R.exe CMD INSTALL GMRP_1.10.1.zip && rm GMRP_1.10.1.tar.gz GMRP_1.10.1.zip ### ############################################################################## ############################################################################## % Total % Received % Xferd Average Speed Time Time Time Current Dload Upload Total Spent Left Speed 0 0 0 0 0 0 0 0 --:--:-- --:--:-- --:--:-- 0 100 373k 100 373k 0 0 3313k 0 --:--:-- --:--:-- --:--:-- 3459k install for i386 * installing *source* package 'GMRP' ... ** R ** data ** inst ** byte-compile and prepare package for lazy loading Warning: replacing previous import 'grDevices::windows' by 'GenomicRanges::windows' when loading 'GMRP' ** help *** installing help indices converting help for package 'GMRP' finding HTML links ... done GMRP-package html SNP358.data html SNP368annot.data html beta.data html cad.data html chrp html fmerge html lpd.data html mktable html path html pathdiagram html pathdiagram2 html snpPositAnnot html ucscannot html ** building package indices ** installing vignettes 'GMRP.Rnw' ** testing if installed package can be loaded Warning: replacing previous import 'grDevices::windows' by 'GenomicRanges::windows' when loading 'GMRP' Warning: Package 'GMRP' is deprecated and will be removed from Bioconductor version 3.7 In R CMD INSTALL install for x64 * installing *source* package 'GMRP' ... ** testing if installed package can be loaded Warning: replacing previous import 'grDevices::windows' by 'GenomicRanges::windows' when loading 'GMRP' Warning: Package 'GMRP' is deprecated and will be removed from Bioconductor version 3.7 * MD5 sums packaged installation of 'GMRP' as GMRP_1.10.1.zip * DONE (GMRP) In R CMD INSTALL In R CMD INSTALL * installing to library 'C:/Users/biocbuild/bbs-3.8-bioc/R/library' package 'GMRP' successfully unpacked and MD5 sums checked In R CMD INSTALL