| Back to Multiple platform build/check report for BioC 3.8 |
|
This page was generated on 2019-04-16 11:54:49 -0400 (Tue, 16 Apr 2019).
| Package 637/1649 | Hostname | OS / Arch | INSTALL | BUILD | CHECK | BUILD BIN | ||||||
| GEOmetadb 1.44.0 Jack Zhu
| malbec1 | Linux (Ubuntu 16.04.6 LTS) / x86_64 | OK | OK | OK | |||||||
| merida1 | OS X 10.11.6 El Capitan / x86_64 | OK | OK | OK | [ OK ] |
| Package: GEOmetadb |
| Version: 1.44.0 |
| Command: rm -rf GEOmetadb.buildbin-libdir && mkdir GEOmetadb.buildbin-libdir && /Users/biocbuild/BBS/utils/build-universal.sh GEOmetadb_1.44.0.tar.gz /Library/Frameworks/R.framework/Versions/Current/Resources/bin/R GEOmetadb.buildbin-libdir |
| StartedAt: 2019-04-16 04:08:16 -0400 (Tue, 16 Apr 2019) |
| EndedAt: 2019-04-16 04:08:58 -0400 (Tue, 16 Apr 2019) |
| EllapsedTime: 42.2 seconds |
| RetCode: 0 |
| Status: OK |
| PackageFile: GEOmetadb_1.44.0.tgz |
| PackageFileSize: 565.2 KiB |
############################################################################## ############################################################################## ### ### Running command: ### ### rm -rf GEOmetadb.buildbin-libdir && mkdir GEOmetadb.buildbin-libdir && /Users/biocbuild/BBS/utils/build-universal.sh GEOmetadb_1.44.0.tar.gz /Library/Frameworks/R.framework/Versions/Current/Resources/bin/R GEOmetadb.buildbin-libdir ### ############################################################################## ############################################################################## >>>>>>> >>>>>>> INSTALLATION WITH 'R CMD INSTALL --preclean --no-multiarch --library=GEOmetadb.buildbin-libdir GEOmetadb_1.44.0.tar.gz' >>>>>>> * installing *source* package ‘GEOmetadb’ ... ** R ** inst ** byte-compile and prepare package for lazy loading ** help *** installing help indices ** building package indices ** installing vignettes ** testing if installed package can be loaded * DONE (GEOmetadb)