| Back to Multiple platform build/check report for BioC 3.8 |
|
This page was generated on 2019-04-13 11:29:08 -0400 (Sat, 13 Apr 2019).
| Package 583/1649 | Hostname | OS / Arch | INSTALL | BUILD | CHECK | BUILD BIN | ||||||
| GDSArray 1.2.0 Qian Liu
| malbec1 | Linux (Ubuntu 16.04.6 LTS) / x86_64 | OK | OK | OK | |||||||
| tokay1 | Windows Server 2012 R2 Standard / x64 | OK | OK | OK | [ OK ] | |||||||
| merida1 | OS X 10.11.6 El Capitan / x86_64 | OK | OK | OK | OK |
| Package: GDSArray |
| Version: 1.2.0 |
| Command: rm -rf GDSArray.buildbin-libdir && mkdir GDSArray.buildbin-libdir && C:\Users\biocbuild\bbs-3.8-bioc\R\bin\R.exe CMD INSTALL --merge-multiarch --build --library=GDSArray.buildbin-libdir GDSArray_1.2.0.tar.gz |
| StartedAt: 2019-04-13 07:17:26 -0400 (Sat, 13 Apr 2019) |
| EndedAt: 2019-04-13 07:17:48 -0400 (Sat, 13 Apr 2019) |
| EllapsedTime: 22.8 seconds |
| RetCode: 0 |
| Status: OK |
| PackageFile: GDSArray_1.2.0.zip |
| PackageFileSize: 601.4 KiB |
##############################################################################
##############################################################################
###
### Running command:
###
### rm -rf GDSArray.buildbin-libdir && mkdir GDSArray.buildbin-libdir && C:\Users\biocbuild\bbs-3.8-bioc\R\bin\R.exe CMD INSTALL --merge-multiarch --build --library=GDSArray.buildbin-libdir GDSArray_1.2.0.tar.gz
###
##############################################################################
##############################################################################
install for i386
* installing *source* package 'GDSArray' ...
** R
** inst
** byte-compile and prepare package for lazy loading
** help
*** installing help indices
converting help for package 'GDSArray'
finding HTML links ... done
GDSArray-classes html
GDSArray-methods html
GDSFile-class html
** building package indices
** installing vignettes
** testing if installed package can be loaded
In R CMD INSTALL
install for x64
* installing *source* package 'GDSArray' ...
** testing if installed package can be loaded
* MD5 sums
packaged installation of 'GDSArray' as GDSArray_1.2.0.zip
* DONE (GDSArray)
In R CMD INSTALL
In R CMD INSTALL