| Back to Multiple platform build/check report for BioC 3.8 |
|
This page was generated on 2019-04-16 12:12:31 -0400 (Tue, 16 Apr 2019).
| Package 557/1649 | Hostname | OS / Arch | INSTALL | BUILD | CHECK | BUILD BIN | ||||||
| FoldGO 1.0.2 Daniil Wiebe
| malbec1 | Linux (Ubuntu 16.04.6 LTS) / x86_64 | OK | OK | OK | |||||||
| merida1 | OS X 10.11.6 El Capitan / x86_64 | OK | OK | OK | [ OK ] |
| Package: FoldGO |
| Version: 1.0.2 |
| Command: rm -rf FoldGO.buildbin-libdir && mkdir FoldGO.buildbin-libdir && /Users/biocbuild/BBS/utils/build-universal.sh FoldGO_1.0.2.tar.gz /Library/Frameworks/R.framework/Versions/Current/Resources/bin/R FoldGO.buildbin-libdir |
| StartedAt: 2019-04-16 04:04:34 -0400 (Tue, 16 Apr 2019) |
| EndedAt: 2019-04-16 04:05:17 -0400 (Tue, 16 Apr 2019) |
| EllapsedTime: 43.0 seconds |
| RetCode: 0 |
| Status: OK |
| PackageFile: FoldGO_1.0.2.tgz |
| PackageFileSize: 2.288 MiB |
############################################################################## ############################################################################## ### ### Running command: ### ### rm -rf FoldGO.buildbin-libdir && mkdir FoldGO.buildbin-libdir && /Users/biocbuild/BBS/utils/build-universal.sh FoldGO_1.0.2.tar.gz /Library/Frameworks/R.framework/Versions/Current/Resources/bin/R FoldGO.buildbin-libdir ### ############################################################################## ############################################################################## >>>>>>> >>>>>>> INSTALLATION WITH 'R CMD INSTALL --preclean --no-multiarch --library=FoldGO.buildbin-libdir FoldGO_1.0.2.tar.gz' >>>>>>> * installing *source* package ‘FoldGO’ ... ** R ** data *** moving datasets to lazyload DB ** inst ** byte-compile and prepare package for lazy loading in method for ‘getAnnotation’ with signature ‘"MgsaSets"’: no definition for class “MgsaSets” ** help *** installing help indices ** building package indices ** installing vignettes ** testing if installed package can be loaded * DONE (FoldGO)