| Back to Multiple platform build/check report for BioC 3.8 | 
  | 
This page was generated on 2019-04-13 11:23:21 -0400 (Sat, 13 Apr 2019).
| Package 516/1649 | Hostname | OS / Arch | INSTALL | BUILD | CHECK | BUILD BIN | ||||||
| FGNet 3.16.0 Sara Aibar 
  | malbec1 | Linux (Ubuntu 16.04.6 LTS) / x86_64 | OK | OK | OK | |||||||
| tokay1 | Windows Server 2012 R2 Standard / x64 | OK | OK | OK | [ OK ] | |||||||
| merida1 | OS X 10.11.6 El Capitan / x86_64 | OK | OK | OK | OK | 
| Package: FGNet | 
| Version: 3.16.0 | 
| Command: rm -rf FGNet.buildbin-libdir && mkdir FGNet.buildbin-libdir && C:\Users\biocbuild\bbs-3.8-bioc\R\bin\R.exe CMD INSTALL --merge-multiarch --build --library=FGNet.buildbin-libdir FGNet_3.16.0.tar.gz | 
| StartedAt: 2019-04-13 07:15:16 -0400 (Sat, 13 Apr 2019) | 
| EndedAt: 2019-04-13 07:15:31 -0400 (Sat, 13 Apr 2019) | 
| EllapsedTime: 15.4 seconds | 
| RetCode: 0 | 
| Status: OK | 
| PackageFile: FGNet_3.16.0.zip | 
| PackageFileSize: 1.769 MiB | 
##############################################################################
##############################################################################
###
### Running command:
###
###   rm -rf FGNet.buildbin-libdir && mkdir FGNet.buildbin-libdir && C:\Users\biocbuild\bbs-3.8-bioc\R\bin\R.exe CMD INSTALL --merge-multiarch --build --library=FGNet.buildbin-libdir FGNet_3.16.0.tar.gz
###
##############################################################################
##############################################################################
install for i386
* installing *source* package 'FGNet' ...
** R
** data
** inst
** byte-compile and prepare package for lazy loading
** help
*** installing help indices
  converting help for package 'FGNet'
    finding HTML links ... done
    FGNet-package                           html  
    FGNet_GUI                               html  
    FGNet_report                            html  
    analyzeNetwork                          html  
    clustersDistance                        html  
    data                                    html  
    fea2incidMat                            html  
    fea_david                               html  
    fea_gage                                html  
    fea_gtLinker                            html  
    fea_topGO                               html  
    format_david                            html  
    format_results                          html  
    functionalNetwork                       html  
    getTerms                                html  
    keywordsTerm                            html  
    plotGoAncestors                         html  
    plotKegg                                html  
    readGeneTermSets                        html  
** building package indices
** installing vignettes
** testing if installed package can be loaded
In R CMD INSTALL
install for x64
* installing *source* package 'FGNet' ...
** testing if installed package can be loaded
* MD5 sums
packaged installation of 'FGNet' as FGNet_3.16.0.zip
* DONE (FGNet)
In R CMD INSTALL
In R CMD INSTALL