| Back to Multiple platform build/check report for BioC 3.8 | 
  | 
This page was generated on 2019-04-13 11:21:13 -0400 (Sat, 13 Apr 2019).
| Package 500/1649 | Hostname | OS / Arch | INSTALL | BUILD | CHECK | BUILD BIN | ||||||
| ExpressionView 1.34.0 Gabor Csardi 
  | malbec1 | Linux (Ubuntu 16.04.6 LTS) / x86_64 | OK | OK | OK | |||||||
| tokay1 | Windows Server 2012 R2 Standard / x64 | OK | OK | WARNINGS | [ OK ] | |||||||
| merida1 | OS X 10.11.6 El Capitan / x86_64 | OK | OK | OK | OK | 
| Package: ExpressionView | 
| Version: 1.34.0 | 
| Command: rm -rf ExpressionView.buildbin-libdir && mkdir ExpressionView.buildbin-libdir && C:\Users\biocbuild\bbs-3.8-bioc\R\bin\R.exe CMD INSTALL --merge-multiarch --build --library=ExpressionView.buildbin-libdir ExpressionView_1.34.0.tar.gz | 
| StartedAt: 2019-04-13 07:14:44 -0400 (Sat, 13 Apr 2019) | 
| EndedAt: 2019-04-13 07:15:27 -0400 (Sat, 13 Apr 2019) | 
| EllapsedTime: 43.9 seconds | 
| RetCode: 0 | 
| Status: OK | 
| PackageFile: ExpressionView_1.34.0.zip | 
| PackageFileSize: 1.764 MiB | 
##############################################################################
##############################################################################
###
### Running command:
###
###   rm -rf ExpressionView.buildbin-libdir && mkdir ExpressionView.buildbin-libdir && C:\Users\biocbuild\bbs-3.8-bioc\R\bin\R.exe CMD INSTALL --merge-multiarch --build --library=ExpressionView.buildbin-libdir ExpressionView_1.34.0.tar.gz
###
##############################################################################
##############################################################################
install for i386
* installing *source* package 'ExpressionView' ...
** libs
C:/Rtools/mingw_32/bin/g++  -I"C:/Users/BIOCBU˜1/BBS-3˜1.8-B/R/include" -DNDEBUG     -I"C:/extsoft/include"     -O2 -Wall  -mtune=generic -c order.cpp -o order.o
C:/Rtools/mingw_32/bin/g++  -I"C:/Users/BIOCBU˜1/BBS-3˜1.8-B/R/include" -DNDEBUG     -I"C:/extsoft/include"     -O2 -Wall  -mtune=generic -c orderclusters.cpp -o orderclusters.o
C:/Rtools/mingw_32/bin/g++ -shared -s -static-libgcc -o ExpressionView.dll tmp.def order.o orderclusters.o -LC:/extsoft/lib/i386 -LC:/extsoft/lib -LC:/Users/BIOCBU˜1/BBS-3˜1.8-B/R/bin/i386 -lR
installing to C:/Users/biocbuild/bbs-3.8-bioc/meat/ExpressionView.buildbin-libdir/ExpressionView/libs/i386
** R
** inst
** byte-compile and prepare package for lazy loading
in method for 'ExportEV' with signature 'biclusters="Biclust"': no definition for class "Biclust"
** help
*** installing help indices
  converting help for package 'ExpressionView'
    finding HTML links ... done
    ExportEV                                html  
Rd warning: C:/Users/biocbuild/bbs-3.8-bioc/tmpdir/RtmpOAaFEa/R.INSTALL371c634649b9/ExpressionView/man/ExportEV.Rd:25: file link 'ISAModules' in package 'eisa' does not exist and so has been treated as a topic
Rd warning: C:/Users/biocbuild/bbs-3.8-bioc/tmpdir/RtmpOAaFEa/R.INSTALL371c634649b9/ExpressionView/man/ExportEV.Rd:28: file link 'ExpressionSet' in package 'Biobase' does not exist and so has been treated as a topic
Rd warning: C:/Users/biocbuild/bbs-3.8-bioc/tmpdir/RtmpOAaFEa/R.INSTALL371c634649b9/ExpressionView/man/ExportEV.Rd:67: file link 'ExpressionSet' in package 'Biobase' does not exist and so has been treated as a topic
Rd warning: C:/Users/biocbuild/bbs-3.8-bioc/tmpdir/RtmpOAaFEa/R.INSTALL371c634649b9/ExpressionView/man/ExportEV.Rd:73: file link 'biclust' in package 'biclust' does not exist and so has been treated as a topic
    ExpressionView-package                  html  
Rd warning: C:/Users/biocbuild/bbs-3.8-bioc/tmpdir/RtmpOAaFEa/R.INSTALL371c634649b9/ExpressionView/man/ExpressionView-package.Rd:17: file link 'ExpressionSet' in package 'Biobase' does not exist and so has been treated as a topic
Rd warning: C:/Users/biocbuild/bbs-3.8-bioc/tmpdir/RtmpOAaFEa/R.INSTALL371c634649b9/ExpressionView/man/ExpressionView-package.Rd:20: file link 'biclust' in package 'biclust' does not exist and so has been treated as a topic
Rd warning: C:/Users/biocbuild/bbs-3.8-bioc/tmpdir/RtmpOAaFEa/R.INSTALL371c634649b9/ExpressionView/man/ExpressionView-package.Rd:44: file link 'biclust' in package 'biclust' does not exist and so has been treated as a topic
    LaunchEV                                html  
Rd warning: C:/Users/biocbuild/bbs-3.8-bioc/tmpdir/RtmpOAaFEa/R.INSTALL371c634649b9/ExpressionView/man/LaunchEV.Rd:19: file link 'biclust' in package 'biclust' does not exist and so has been treated as a topic
    OrderEV                                 html  
Rd warning: C:/Users/biocbuild/bbs-3.8-bioc/tmpdir/RtmpOAaFEa/R.INSTALL371c634649b9/ExpressionView/man/OrderEV.Rd:20: file link 'ISAModules' in package 'eisa' does not exist and so has been treated as a topic
Rd warning: C:/Users/biocbuild/bbs-3.8-bioc/tmpdir/RtmpOAaFEa/R.INSTALL371c634649b9/ExpressionView/man/OrderEV.Rd:61: file link 'biclust' in package 'biclust' does not exist and so has been treated as a topic
** building package indices
** installing vignettes
** testing if installed package can be loaded
In R CMD INSTALL
install for x64
* installing *source* package 'ExpressionView' ...
** libs
C:/Rtools/mingw_64/bin/g++  -I"C:/Users/BIOCBU˜1/BBS-3˜1.8-B/R/include" -DNDEBUG     -I"C:/extsoft/include"     -O2 -Wall  -mtune=generic -c order.cpp -o order.o
C:/Rtools/mingw_64/bin/g++  -I"C:/Users/BIOCBU˜1/BBS-3˜1.8-B/R/include" -DNDEBUG     -I"C:/extsoft/include"     -O2 -Wall  -mtune=generic -c orderclusters.cpp -o orderclusters.o
C:/Rtools/mingw_64/bin/g++ -shared -s -static-libgcc -o ExpressionView.dll tmp.def order.o orderclusters.o -LC:/extsoft/lib/x64 -LC:/extsoft/lib -LC:/Users/BIOCBU˜1/BBS-3˜1.8-B/R/bin/x64 -lR
installing to C:/Users/biocbuild/bbs-3.8-bioc/meat/ExpressionView.buildbin-libdir/ExpressionView/libs/x64
** testing if installed package can be loaded
* MD5 sums
packaged installation of 'ExpressionView' as ExpressionView_1.34.0.zip
* DONE (ExpressionView)
In R CMD INSTALL
In R CMD INSTALL