Back to Multiple platform build/check report for BioC 3.8 |
|
This page was generated on 2019-04-13 11:26:23 -0400 (Sat, 13 Apr 2019).
Package 496/1649 | Hostname | OS / Arch | INSTALL | BUILD | CHECK | BUILD BIN | ||||||
ExperimentHub 1.8.0 Bioconductor Package Maintainer
| malbec1 | Linux (Ubuntu 16.04.6 LTS) / x86_64 | OK | OK | OK | ![]() | ||||||
tokay1 | Windows Server 2012 R2 Standard / x64 | OK | OK | OK | [ OK ] | ![]() | ||||||
merida1 | OS X 10.11.6 El Capitan / x86_64 | OK | OK | OK | OK | ![]() |
Package: ExperimentHub |
Version: 1.8.0 |
Command: rm -rf ExperimentHub.buildbin-libdir && mkdir ExperimentHub.buildbin-libdir && C:\Users\biocbuild\bbs-3.8-bioc\R\bin\R.exe CMD INSTALL --merge-multiarch --build --library=ExperimentHub.buildbin-libdir ExperimentHub_1.8.0.tar.gz |
StartedAt: 2019-04-13 07:14:35 -0400 (Sat, 13 Apr 2019) |
EndedAt: 2019-04-13 07:14:56 -0400 (Sat, 13 Apr 2019) |
EllapsedTime: 20.9 seconds |
RetCode: 0 |
Status: OK |
PackageFile: ExperimentHub_1.8.0.zip |
PackageFileSize: 635.1 KiB |
############################################################################## ############################################################################## ### ### Running command: ### ### rm -rf ExperimentHub.buildbin-libdir && mkdir ExperimentHub.buildbin-libdir && C:\Users\biocbuild\bbs-3.8-bioc\R\bin\R.exe CMD INSTALL --merge-multiarch --build --library=ExperimentHub.buildbin-libdir ExperimentHub_1.8.0.tar.gz ### ############################################################################## ############################################################################## install for i386 * installing *source* package 'ExperimentHub' ... ** R ** inst ** byte-compile and prepare package for lazy loading ** help *** installing help indices converting help for package 'ExperimentHub' finding HTML links ... done ExperimentHub-class html getExperimentHubOption html listResources html ** building package indices ** installing vignettes ** testing if installed package can be loaded In R CMD INSTALL install for x64 * installing *source* package 'ExperimentHub' ... ** testing if installed package can be loaded * MD5 sums packaged installation of 'ExperimentHub' as ExperimentHub_1.8.0.zip * DONE (ExperimentHub) In R CMD INSTALL In R CMD INSTALL