Back to Multiple platform build/check report for BioC 3.8 |
|
This page was generated on 2019-04-13 11:21:31 -0400 (Sat, 13 Apr 2019).
Package 493/1649 | Hostname | OS / Arch | INSTALL | BUILD | CHECK | BUILD BIN | ||||||
ExiMiR 2.24.0 Sylvain Gubian
| malbec1 | Linux (Ubuntu 16.04.6 LTS) / x86_64 | OK | OK | OK | ![]() | ||||||
tokay1 | Windows Server 2012 R2 Standard / x64 | [ OK ] | OK | OK | OK | ![]() | ||||||
merida1 | OS X 10.11.6 El Capitan / x86_64 | OK | OK | OK | OK | ![]() |
Package: ExiMiR |
Version: 2.24.0 |
Command: C:\cygwin\bin\curl.exe -O https://malbec1.bioconductor.org/BBS/3.8/bioc/src/contrib/ExiMiR_2.24.0.tar.gz && rm -rf ExiMiR.buildbin-libdir && mkdir ExiMiR.buildbin-libdir && C:\Users\biocbuild\bbs-3.8-bioc\R\bin\R.exe CMD INSTALL --merge-multiarch --build --library=ExiMiR.buildbin-libdir ExiMiR_2.24.0.tar.gz && C:\Users\biocbuild\bbs-3.8-bioc\R\bin\R.exe CMD INSTALL ExiMiR_2.24.0.zip && rm ExiMiR_2.24.0.tar.gz ExiMiR_2.24.0.zip |
StartedAt: 2019-04-12 19:18:55 -0400 (Fri, 12 Apr 2019) |
EndedAt: 2019-04-12 19:19:26 -0400 (Fri, 12 Apr 2019) |
EllapsedTime: 30.3 seconds |
RetCode: 0 |
Status: OK |
############################################################################## ############################################################################## ### ### Running command: ### ### C:\cygwin\bin\curl.exe -O https://malbec1.bioconductor.org/BBS/3.8/bioc/src/contrib/ExiMiR_2.24.0.tar.gz && rm -rf ExiMiR.buildbin-libdir && mkdir ExiMiR.buildbin-libdir && C:\Users\biocbuild\bbs-3.8-bioc\R\bin\R.exe CMD INSTALL --merge-multiarch --build --library=ExiMiR.buildbin-libdir ExiMiR_2.24.0.tar.gz && C:\Users\biocbuild\bbs-3.8-bioc\R\bin\R.exe CMD INSTALL ExiMiR_2.24.0.zip && rm ExiMiR_2.24.0.tar.gz ExiMiR_2.24.0.zip ### ############################################################################## ############################################################################## % Total % Received % Xferd Average Speed Time Time Time Current Dload Upload Total Spent Left Speed 0 0 0 0 0 0 0 0 --:--:-- --:--:-- --:--:-- 0 100 859k 100 859k 0 0 18.2M 0 --:--:-- --:--:-- --:--:-- 19.9M install for i386 * installing *source* package 'ExiMiR' ... ** R ** data ** byte-compile and prepare package for lazy loading ** help *** installing help indices converting help for package 'ExiMiR' finding HTML links ... done ExiMiR-package html GSE19183 html GSE20122 html NormiR html NormiR.methods html ReadExi html bg.correct.miR html createAB html galenv html make.gal.env html norm.miR html summarize.miR html ** building package indices ** installing vignettes ** testing if installed package can be loaded In R CMD INSTALL install for x64 * installing *source* package 'ExiMiR' ... ** testing if installed package can be loaded * MD5 sums packaged installation of 'ExiMiR' as ExiMiR_2.24.0.zip * DONE (ExiMiR) In R CMD INSTALL In R CMD INSTALL * installing to library 'C:/Users/biocbuild/bbs-3.8-bioc/R/library' package 'ExiMiR' successfully unpacked and MD5 sums checked In R CMD INSTALL