Back to Multiple platform build/check report for BioC 3.8 |
|
This page was generated on 2019-04-16 12:12:56 -0400 (Tue, 16 Apr 2019).
Package 492/1649 | Hostname | OS / Arch | INSTALL | BUILD | CHECK | BUILD BIN | ||||||
ExCluster 1.0.1 R. Matthew Tanner
| malbec1 | Linux (Ubuntu 16.04.6 LTS) / x86_64 | OK | OK | OK | ![]() | ||||||
merida1 | OS X 10.11.6 El Capitan / x86_64 | OK | OK | OK | [ OK ] | ![]() |
Package: ExCluster |
Version: 1.0.1 |
Command: rm -rf ExCluster.buildbin-libdir && mkdir ExCluster.buildbin-libdir && /Users/biocbuild/BBS/utils/build-universal.sh ExCluster_1.0.1.tar.gz /Library/Frameworks/R.framework/Versions/Current/Resources/bin/R ExCluster.buildbin-libdir |
StartedAt: 2019-04-16 04:01:23 -0400 (Tue, 16 Apr 2019) |
EndedAt: 2019-04-16 04:02:15 -0400 (Tue, 16 Apr 2019) |
EllapsedTime: 51.6 seconds |
RetCode: 0 |
Status: OK |
PackageFile: ExCluster_1.0.1.tgz |
PackageFileSize: 379.3 KiB |
############################################################################## ############################################################################## ### ### Running command: ### ### rm -rf ExCluster.buildbin-libdir && mkdir ExCluster.buildbin-libdir && /Users/biocbuild/BBS/utils/build-universal.sh ExCluster_1.0.1.tar.gz /Library/Frameworks/R.framework/Versions/Current/Resources/bin/R ExCluster.buildbin-libdir ### ############################################################################## ############################################################################## >>>>>>> >>>>>>> INSTALLATION WITH 'R CMD INSTALL --preclean --no-multiarch --library=ExCluster.buildbin-libdir ExCluster_1.0.1.tar.gz' >>>>>>> * installing *source* package ‘ExCluster’ ... ** R ** inst ** byte-compile and prepare package for lazy loading ** help *** installing help indices ** building package indices ** installing vignettes ** testing if installed package can be loaded * DONE (ExCluster)