| Back to Multiple platform build/check report for BioC 3.8 | 
  | 
This page was generated on 2019-04-13 11:19:09 -0400 (Sat, 13 Apr 2019).
| Package 445/1649 | Hostname | OS / Arch | INSTALL | BUILD | CHECK | BUILD BIN | ||||||
| DynDoc 1.60.0 Bioconductor Package Maintainer 
  | malbec1 | Linux (Ubuntu 16.04.6 LTS) / x86_64 | OK | OK | OK | |||||||
| tokay1 | Windows Server 2012 R2 Standard / x64 | OK | OK | OK | [ OK ] | |||||||
| merida1 | OS X 10.11.6 El Capitan / x86_64 | OK | OK | OK | OK | 
| Package: DynDoc | 
| Version: 1.60.0 | 
| Command: rm -rf DynDoc.buildbin-libdir && mkdir DynDoc.buildbin-libdir && C:\Users\biocbuild\bbs-3.8-bioc\R\bin\R.exe CMD INSTALL --merge-multiarch --build --library=DynDoc.buildbin-libdir DynDoc_1.60.0.tar.gz | 
| StartedAt: 2019-04-13 07:12:43 -0400 (Sat, 13 Apr 2019) | 
| EndedAt: 2019-04-13 07:12:53 -0400 (Sat, 13 Apr 2019) | 
| EllapsedTime: 9.8 seconds | 
| RetCode: 0 | 
| Status: OK | 
| PackageFile: DynDoc_1.60.0.zip | 
| PackageFileSize: 166.2 KiB | 
##############################################################################
##############################################################################
###
### Running command:
###
###   rm -rf DynDoc.buildbin-libdir && mkdir DynDoc.buildbin-libdir && C:\Users\biocbuild\bbs-3.8-bioc\R\bin\R.exe CMD INSTALL --merge-multiarch --build --library=DynDoc.buildbin-libdir DynDoc_1.60.0.tar.gz
###
##############################################################################
##############################################################################
install for i386
* installing *source* package 'DynDoc' ...
** R
** byte-compile and prepare package for lazy loading
** help
*** installing help indices
  converting help for package 'DynDoc'
    finding HTML links ... done
    DynDoc-class                            html  
    SweaveOptions-class                     html  
    Vignette-class                          html  
    chunkList-class                         html  
    codeChunk-class                         html  
    getPkgVigList                           html  
    getVignette                             html  
    getVignetteCode                         html  
    getVignetteHeader                       html  
    tangleToR                               html  
    vignetteCode-class                      html  
** building package indices
** testing if installed package can be loaded
In R CMD INSTALL
install for x64
* installing *source* package 'DynDoc' ...
** testing if installed package can be loaded
* MD5 sums
packaged installation of 'DynDoc' as DynDoc_1.60.0.zip
* DONE (DynDoc)
In R CMD INSTALL
In R CMD INSTALL