| Back to Multiple platform build/check report for BioC 3.8 | 
  | 
This page was generated on 2019-04-16 11:53:14 -0400 (Tue, 16 Apr 2019).
| Package 436/1649 | Hostname | OS / Arch | INSTALL | BUILD | CHECK | BUILD BIN | ||||||
| DropletUtils 1.2.2 Aaron Lun 
  | malbec1 | Linux (Ubuntu 16.04.6 LTS) / x86_64 | OK | [ OK ] | WARNINGS | |||||||
| merida1 | OS X 10.11.6 El Capitan / x86_64 | OK | OK | WARNINGS | OK | 
| Package: DropletUtils | 
| Version: 1.2.2 | 
| Command: /home/biocbuild/bbs-3.8-bioc/R/bin/R CMD build --keep-empty-dirs --no-resave-data DropletUtils | 
| StartedAt: 2019-04-15 21:35:06 -0400 (Mon, 15 Apr 2019) | 
| EndedAt: 2019-04-15 21:36:53 -0400 (Mon, 15 Apr 2019) | 
| EllapsedTime: 106.6 seconds | 
| RetCode: 0 | 
| Status: OK | 
| PackageFile: DropletUtils_1.2.2.tar.gz | 
| PackageFileSize: 430.1 KiB | 
############################################################################## ############################################################################## ### ### Running command: ### ### /home/biocbuild/bbs-3.8-bioc/R/bin/R CMD build --keep-empty-dirs --no-resave-data DropletUtils ### ############################################################################## ############################################################################## * checking for file ‘DropletUtils/DESCRIPTION’ ... OK * preparing ‘DropletUtils’: * checking DESCRIPTION meta-information ... OK * cleaning src * installing the package to build vignettes * creating vignettes ... OK * cleaning src * checking for LF line-endings in source and make files and shell scripts * checking for empty or unneeded directories * building ‘DropletUtils_1.2.2.tar.gz’