| Back to Multiple platform build/check report for BioC 3.8 | 
  | 
This page was generated on 2019-04-16 11:56:39 -0400 (Tue, 16 Apr 2019).
| Package 435/1649 | Hostname | OS / Arch | INSTALL | BUILD | CHECK | BUILD BIN | ||||||
| DriverNet 1.22.0 Jiarui Ding 
  | malbec1 | Linux (Ubuntu 16.04.6 LTS) / x86_64 | OK | OK | OK | |||||||
| merida1 | OS X 10.11.6 El Capitan / x86_64 | OK | OK | OK | [ OK ] | 
| Package: DriverNet | 
| Version: 1.22.0 | 
| Command: rm -rf DriverNet.buildbin-libdir && mkdir DriverNet.buildbin-libdir && /Users/biocbuild/BBS/utils/build-universal.sh DriverNet_1.22.0.tar.gz /Library/Frameworks/R.framework/Versions/Current/Resources/bin/R DriverNet.buildbin-libdir | 
| StartedAt: 2019-04-16 03:58:35 -0400 (Tue, 16 Apr 2019) | 
| EndedAt: 2019-04-16 03:59:18 -0400 (Tue, 16 Apr 2019) | 
| EllapsedTime: 42.1 seconds | 
| RetCode: 0 | 
| Status: OK | 
| PackageFile: DriverNet_1.22.0.tgz | 
| PackageFileSize: 1.199 MiB | 
############################################################################## ############################################################################## ### ### Running command: ### ### rm -rf DriverNet.buildbin-libdir && mkdir DriverNet.buildbin-libdir && /Users/biocbuild/BBS/utils/build-universal.sh DriverNet_1.22.0.tar.gz /Library/Frameworks/R.framework/Versions/Current/Resources/bin/R DriverNet.buildbin-libdir ### ############################################################################## ############################################################################## >>>>>>> >>>>>>> INSTALLATION WITH 'R CMD INSTALL --preclean --no-multiarch --library=DriverNet.buildbin-libdir DriverNet_1.22.0.tar.gz' >>>>>>> * installing *source* package ‘DriverNet’ ... ** R ** data ** inst ** byte-compile and prepare package for lazy loading ** help *** installing help indices ** building package indices ** installing vignettes ** testing if installed package can be loaded * DONE (DriverNet)