| Back to Multiple platform build/check report for BioC 3.8 | 
 | 
This page was generated on 2019-04-16 11:47:55 -0400 (Tue, 16 Apr 2019).
| Package 426/1649 | Hostname | OS / Arch | INSTALL | BUILD | CHECK | BUILD BIN | ||||||
| DNAcopy 1.56.0 Venkatraman E. Seshan 
 | malbec1 | Linux (Ubuntu 16.04.6 LTS) / x86_64 | OK | [ OK ] | OK |  | ||||||
| merida1 | OS X 10.11.6 El Capitan / x86_64 | OK | OK | OK | OK |  | 
| Package: DNAcopy | 
| Version: 1.56.0 | 
| Command: /home/biocbuild/bbs-3.8-bioc/R/bin/R CMD build --keep-empty-dirs --no-resave-data DNAcopy | 
| StartedAt: 2019-04-15 18:38:39 -0400 (Mon, 15 Apr 2019) | 
| EndedAt: 2019-04-15 18:38:47 -0400 (Mon, 15 Apr 2019) | 
| EllapsedTime: 8.1 seconds | 
| RetCode: 0 | 
| Status: OK | 
| PackageFile: DNAcopy_1.56.0.tar.gz | 
| PackageFileSize: 326.6 KiB | 
############################################################################## ############################################################################## ### ### Running command: ### ### /home/biocbuild/bbs-3.8-bioc/R/bin/R CMD build --keep-empty-dirs --no-resave-data DNAcopy ### ############################################################################## ############################################################################## * checking for file ‘DNAcopy/DESCRIPTION’ ... OK * preparing ‘DNAcopy’: * checking DESCRIPTION meta-information ... OK * cleaning src * installing the package to build vignettes * creating vignettes ... OK * cleaning src * checking for LF line-endings in source and make files and shell scripts * checking for empty or unneeded directories * looking to see if a ‘data/datalist’ file should be added * building ‘DNAcopy_1.56.0.tar.gz’