| Back to Multiple platform build/check report for BioC 3.8 |
|
This page was generated on 2019-04-16 11:51:35 -0400 (Tue, 16 Apr 2019).
| Package 425/1649 | Hostname | OS / Arch | INSTALL | BUILD | CHECK | BUILD BIN | ||||||
| DNABarcodes 1.12.0 Tilo Buschmann
| malbec1 | Linux (Ubuntu 16.04.6 LTS) / x86_64 | [ OK ] | OK | OK | |||||||
| merida1 | OS X 10.11.6 El Capitan / x86_64 | OK | OK | OK | OK |
| Package: DNABarcodes |
| Version: 1.12.0 |
| Command: /home/biocbuild/bbs-3.8-bioc/R/bin/R CMD INSTALL DNABarcodes |
| StartedAt: 2019-04-15 18:00:30 -0400 (Mon, 15 Apr 2019) |
| EndedAt: 2019-04-15 18:02:06 -0400 (Mon, 15 Apr 2019) |
| EllapsedTime: 96.0 seconds |
| RetCode: 0 |
| Status: OK |
##############################################################################
##############################################################################
###
### Running command:
###
### /home/biocbuild/bbs-3.8-bioc/R/bin/R CMD INSTALL DNABarcodes
###
##############################################################################
##############################################################################
* installing to library ‘/home/biocbuild/bbs-3.8-bioc/R/library’
* installing *source* package ‘DNABarcodes’ ...
** libs
gcc -I"/home/biocbuild/bbs-3.8-bioc/R/include" -DNDEBUG -I"/home/biocbuild/bbs-3.8-bioc/R/library/Rcpp/include" -I"/home/biocbuild/bbs-3.8-bioc/R/library/BH/include" -I/usr/local/include -fopenmp -fpic -g -O2 -Wall -c DNABarcodes_init.c -o DNABarcodes_init.o
g++ -I"/home/biocbuild/bbs-3.8-bioc/R/include" -DNDEBUG -I"/home/biocbuild/bbs-3.8-bioc/R/library/Rcpp/include" -I"/home/biocbuild/bbs-3.8-bioc/R/library/BH/include" -I/usr/local/include -fopenmp -fpic -g -O2 -Wall -c RcppExports.cpp -o RcppExports.o
g++ -I"/home/biocbuild/bbs-3.8-bioc/R/include" -DNDEBUG -I"/home/biocbuild/bbs-3.8-bioc/R/library/Rcpp/include" -I"/home/biocbuild/bbs-3.8-bioc/R/library/BH/include" -I/usr/local/include -fopenmp -fpic -g -O2 -Wall -c analyse_barcodes.cpp -o analyse_barcodes.o
g++ -I"/home/biocbuild/bbs-3.8-bioc/R/include" -DNDEBUG -I"/home/biocbuild/bbs-3.8-bioc/R/library/Rcpp/include" -I"/home/biocbuild/bbs-3.8-bioc/R/library/BH/include" -I/usr/local/include -fopenmp -fpic -g -O2 -Wall -c barcode_set_distances.cpp -o barcode_set_distances.o
g++ -I"/home/biocbuild/bbs-3.8-bioc/R/include" -DNDEBUG -I"/home/biocbuild/bbs-3.8-bioc/R/library/Rcpp/include" -I"/home/biocbuild/bbs-3.8-bioc/R/library/BH/include" -I/usr/local/include -fopenmp -fpic -g -O2 -Wall -c cachedistance.cpp -o cachedistance.o
g++ -I"/home/biocbuild/bbs-3.8-bioc/R/include" -DNDEBUG -I"/home/biocbuild/bbs-3.8-bioc/R/library/Rcpp/include" -I"/home/biocbuild/bbs-3.8-bioc/R/library/BH/include" -I/usr/local/include -fopenmp -fpic -g -O2 -Wall -c chromosome.cpp -o chromosome.o
In file included from /home/biocbuild/bbs-3.8-bioc/R/library/BH/include/boost/random/detail/integer_log2.hpp:19:0,
from /home/biocbuild/bbs-3.8-bioc/R/library/BH/include/boost/random/detail/large_arithmetic.hpp:19,
from /home/biocbuild/bbs-3.8-bioc/R/library/BH/include/boost/random/detail/const_mod.hpp:23,
from /home/biocbuild/bbs-3.8-bioc/R/library/BH/include/boost/random/detail/seed_impl.hpp:26,
from /home/biocbuild/bbs-3.8-bioc/R/library/BH/include/boost/random/mersenne_twister.hpp:30,
from chromosome.h:8,
from chromosome.cpp:3:
/home/biocbuild/bbs-3.8-bioc/R/library/BH/include/boost/pending/integer_log2.hpp:7:89: note: #pragma message: This header is deprecated. Use <boost/integer/integer_log2.hpp> instead.
g++ -I"/home/biocbuild/bbs-3.8-bioc/R/include" -DNDEBUG -I"/home/biocbuild/bbs-3.8-bioc/R/library/Rcpp/include" -I"/home/biocbuild/bbs-3.8-bioc/R/library/BH/include" -I/usr/local/include -fopenmp -fpic -g -O2 -Wall -c code_falsification.cpp -o code_falsification.o
In file included from /home/biocbuild/bbs-3.8-bioc/R/library/BH/include/boost/random/detail/integer_log2.hpp:19:0,
from /home/biocbuild/bbs-3.8-bioc/R/library/BH/include/boost/random/detail/large_arithmetic.hpp:19,
from /home/biocbuild/bbs-3.8-bioc/R/library/BH/include/boost/random/detail/const_mod.hpp:23,
from /home/biocbuild/bbs-3.8-bioc/R/library/BH/include/boost/random/detail/seed_impl.hpp:26,
from /home/biocbuild/bbs-3.8-bioc/R/library/BH/include/boost/random/mersenne_twister.hpp:30,
from chromosome.h:8,
from code_falsification.cpp:11:
/home/biocbuild/bbs-3.8-bioc/R/library/BH/include/boost/pending/integer_log2.hpp:7:89: note: #pragma message: This header is deprecated. Use <boost/integer/integer_log2.hpp> instead.
g++ -I"/home/biocbuild/bbs-3.8-bioc/R/include" -DNDEBUG -I"/home/biocbuild/bbs-3.8-bioc/R/library/Rcpp/include" -I"/home/biocbuild/bbs-3.8-bioc/R/library/BH/include" -I/usr/local/include -fopenmp -fpic -g -O2 -Wall -c conway.cpp -o conway.o
g++ -I"/home/biocbuild/bbs-3.8-bioc/R/include" -DNDEBUG -I"/home/biocbuild/bbs-3.8-bioc/R/library/Rcpp/include" -I"/home/biocbuild/bbs-3.8-bioc/R/library/BH/include" -I/usr/local/include -fopenmp -fpic -g -O2 -Wall -c create_distance_func.cpp -o create_distance_func.o
g++ -I"/home/biocbuild/bbs-3.8-bioc/R/include" -DNDEBUG -I"/home/biocbuild/bbs-3.8-bioc/R/library/Rcpp/include" -I"/home/biocbuild/bbs-3.8-bioc/R/library/BH/include" -I/usr/local/include -fopenmp -fpic -g -O2 -Wall -c create_dnabarcodes.cpp -o create_dnabarcodes.o
In file included from /home/biocbuild/bbs-3.8-bioc/R/library/BH/include/boost/random/detail/integer_log2.hpp:19:0,
from /home/biocbuild/bbs-3.8-bioc/R/library/BH/include/boost/random/detail/large_arithmetic.hpp:19,
from /home/biocbuild/bbs-3.8-bioc/R/library/BH/include/boost/random/detail/const_mod.hpp:23,
from /home/biocbuild/bbs-3.8-bioc/R/library/BH/include/boost/random/detail/seed_impl.hpp:26,
from /home/biocbuild/bbs-3.8-bioc/R/library/BH/include/boost/random/mersenne_twister.hpp:30,
from create_dnabarcodes.cpp:11:
/home/biocbuild/bbs-3.8-bioc/R/library/BH/include/boost/pending/integer_log2.hpp:7:89: note: #pragma message: This header is deprecated. Use <boost/integer/integer_log2.hpp> instead.
g++ -I"/home/biocbuild/bbs-3.8-bioc/R/include" -DNDEBUG -I"/home/biocbuild/bbs-3.8-bioc/R/library/Rcpp/include" -I"/home/biocbuild/bbs-3.8-bioc/R/library/BH/include" -I/usr/local/include -fopenmp -fpic -g -O2 -Wall -c create_pool.cpp -o create_pool.o
g++ -I"/home/biocbuild/bbs-3.8-bioc/R/include" -DNDEBUG -I"/home/biocbuild/bbs-3.8-bioc/R/library/Rcpp/include" -I"/home/biocbuild/bbs-3.8-bioc/R/library/BH/include" -I/usr/local/include -fopenmp -fpic -g -O2 -Wall -c demultiplex.cpp -o demultiplex.o
g++ -I"/home/biocbuild/bbs-3.8-bioc/R/include" -DNDEBUG -I"/home/biocbuild/bbs-3.8-bioc/R/library/Rcpp/include" -I"/home/biocbuild/bbs-3.8-bioc/R/library/BH/include" -I/usr/local/include -fopenmp -fpic -g -O2 -Wall -c distance_for_R.cpp -o distance_for_R.o
g++ -I"/home/biocbuild/bbs-3.8-bioc/R/include" -DNDEBUG -I"/home/biocbuild/bbs-3.8-bioc/R/library/Rcpp/include" -I"/home/biocbuild/bbs-3.8-bioc/R/library/BH/include" -I/usr/local/include -fopenmp -fpic -g -O2 -Wall -c genericchromosome.cpp -o genericchromosome.o
g++ -I"/home/biocbuild/bbs-3.8-bioc/R/include" -DNDEBUG -I"/home/biocbuild/bbs-3.8-bioc/R/library/Rcpp/include" -I"/home/biocbuild/bbs-3.8-bioc/R/library/BH/include" -I/usr/local/include -fopenmp -fpic -g -O2 -Wall -c greedyevolution.cpp -o greedyevolution.o
g++ -I"/home/biocbuild/bbs-3.8-bioc/R/include" -DNDEBUG -I"/home/biocbuild/bbs-3.8-bioc/R/library/Rcpp/include" -I"/home/biocbuild/bbs-3.8-bioc/R/library/BH/include" -I/usr/local/include -fopenmp -fpic -g -O2 -Wall -c hammingdistance.cpp -o hammingdistance.o
g++ -I"/home/biocbuild/bbs-3.8-bioc/R/include" -DNDEBUG -I"/home/biocbuild/bbs-3.8-bioc/R/library/Rcpp/include" -I"/home/biocbuild/bbs-3.8-bioc/R/library/BH/include" -I/usr/local/include -fopenmp -fpic -g -O2 -Wall -c helpers.cpp -o helpers.o
g++ -I"/home/biocbuild/bbs-3.8-bioc/R/include" -DNDEBUG -I"/home/biocbuild/bbs-3.8-bioc/R/library/Rcpp/include" -I"/home/biocbuild/bbs-3.8-bioc/R/library/BH/include" -I/usr/local/include -fopenmp -fpic -g -O2 -Wall -c levenshteindistance.cpp -o levenshteindistance.o
g++ -I"/home/biocbuild/bbs-3.8-bioc/R/include" -DNDEBUG -I"/home/biocbuild/bbs-3.8-bioc/R/library/Rcpp/include" -I"/home/biocbuild/bbs-3.8-bioc/R/library/BH/include" -I/usr/local/include -fopenmp -fpic -g -O2 -Wall -c maxclique_pattabiraman_heuristic.cpp -o maxclique_pattabiraman_heuristic.o
g++ -I"/home/biocbuild/bbs-3.8-bioc/R/include" -DNDEBUG -I"/home/biocbuild/bbs-3.8-bioc/R/library/Rcpp/include" -I"/home/biocbuild/bbs-3.8-bioc/R/library/BH/include" -I/usr/local/include -fopenmp -fpic -g -O2 -Wall -c phaseshiftdist.cpp -o phaseshiftdist.o
g++ -I"/home/biocbuild/bbs-3.8-bioc/R/include" -DNDEBUG -I"/home/biocbuild/bbs-3.8-bioc/R/library/Rcpp/include" -I"/home/biocbuild/bbs-3.8-bioc/R/library/BH/include" -I/usr/local/include -fopenmp -fpic -g -O2 -Wall -c sequence.cpp -o sequence.o
g++ -I"/home/biocbuild/bbs-3.8-bioc/R/include" -DNDEBUG -I"/home/biocbuild/bbs-3.8-bioc/R/library/Rcpp/include" -I"/home/biocbuild/bbs-3.8-bioc/R/library/BH/include" -I/usr/local/include -fopenmp -fpic -g -O2 -Wall -c sequencelevenshteindistance.cpp -o sequencelevenshteindistance.o
g++ -I"/home/biocbuild/bbs-3.8-bioc/R/include" -DNDEBUG -I"/home/biocbuild/bbs-3.8-bioc/R/library/Rcpp/include" -I"/home/biocbuild/bbs-3.8-bioc/R/library/BH/include" -I/usr/local/include -fopenmp -fpic -g -O2 -Wall -c sequencepool.cpp -o sequencepool.o
g++ -shared -L/home/biocbuild/bbs-3.8-bioc/R/lib -L/usr/local/lib -o DNABarcodes.so DNABarcodes_init.o RcppExports.o analyse_barcodes.o barcode_set_distances.o cachedistance.o chromosome.o code_falsification.o conway.o create_distance_func.o create_dnabarcodes.o create_pool.o demultiplex.o distance_for_R.o genericchromosome.o greedyevolution.o hammingdistance.o helpers.o levenshteindistance.o maxclique_pattabiraman_heuristic.o phaseshiftdist.o sequence.o sequencelevenshteindistance.o sequencepool.o -fopenmp -L/home/biocbuild/bbs-3.8-bioc/R/lib -lR
installing to /home/biocbuild/bbs-3.8-bioc/R/library/DNABarcodes/libs
** R
** data
** inst
** byte-compile and prepare package for lazy loading
** help
*** installing help indices
** building package indices
** installing vignettes
** testing if installed package can be loaded
* DONE (DNABarcodes)