| Back to Multiple platform build/check report for BioC 3.8 |
|
This page was generated on 2019-04-16 12:00:18 -0400 (Tue, 16 Apr 2019).
| Package 423/1649 | Hostname | OS / Arch | INSTALL | BUILD | CHECK | BUILD BIN | ||||||
| DMRScan 1.8.0 Christian M Page
| malbec1 | Linux (Ubuntu 16.04.6 LTS) / x86_64 | OK | OK | OK | |||||||
| merida1 | OS X 10.11.6 El Capitan / x86_64 | OK | OK | OK | [ OK ] |
| Package: DMRScan |
| Version: 1.8.0 |
| Command: rm -rf DMRScan.buildbin-libdir && mkdir DMRScan.buildbin-libdir && /Users/biocbuild/BBS/utils/build-universal.sh DMRScan_1.8.0.tar.gz /Library/Frameworks/R.framework/Versions/Current/Resources/bin/R DMRScan.buildbin-libdir |
| StartedAt: 2019-04-16 03:58:01 -0400 (Tue, 16 Apr 2019) |
| EndedAt: 2019-04-16 03:58:47 -0400 (Tue, 16 Apr 2019) |
| EllapsedTime: 45.8 seconds |
| RetCode: 0 |
| Status: OK |
| PackageFile: DMRScan_1.8.0.tgz |
| PackageFileSize: 5.016 MiB |
############################################################################## ############################################################################## ### ### Running command: ### ### rm -rf DMRScan.buildbin-libdir && mkdir DMRScan.buildbin-libdir && /Users/biocbuild/BBS/utils/build-universal.sh DMRScan_1.8.0.tar.gz /Library/Frameworks/R.framework/Versions/Current/Resources/bin/R DMRScan.buildbin-libdir ### ############################################################################## ############################################################################## >>>>>>> >>>>>>> INSTALLATION WITH 'R CMD INSTALL --preclean --no-multiarch --library=DMRScan.buildbin-libdir DMRScan_1.8.0.tar.gz' >>>>>>> * installing *source* package ‘DMRScan’ ... ** R ** data *** moving datasets to lazyload DB ** inst ** byte-compile and prepare package for lazy loading ** help *** installing help indices ** building package indices ** installing vignettes ** testing if installed package can be loaded * DONE (DMRScan)