| Back to Multiple platform build/check report for BioC 3.8 | 
  | 
This page was generated on 2019-04-13 11:25:07 -0400 (Sat, 13 Apr 2019).
| Package 314/1649 | Hostname | OS / Arch | INSTALL | BUILD | CHECK | BUILD BIN | ||||||
| ComplexHeatmap 1.20.0 Zuguang Gu 
  | malbec1 | Linux (Ubuntu 16.04.6 LTS) / x86_64 | OK | OK | OK | |||||||
| tokay1 | Windows Server 2012 R2 Standard / x64 | OK | [ OK ] | WARNINGS | OK | |||||||
| merida1 | OS X 10.11.6 El Capitan / x86_64 | OK | OK | OK | OK | 
| Package: ComplexHeatmap | 
| Version: 1.20.0 | 
| Command: chmod a+r ComplexHeatmap -R && C:\Users\biocbuild\bbs-3.8-bioc\R\bin\R.exe CMD build --keep-empty-dirs --no-resave-data ComplexHeatmap | 
| StartedAt: 2019-04-12 22:25:16 -0400 (Fri, 12 Apr 2019) | 
| EndedAt: 2019-04-12 22:29:11 -0400 (Fri, 12 Apr 2019) | 
| EllapsedTime: 234.3 seconds | 
| RetCode: 0 | 
| Status: OK | 
| PackageFile: ComplexHeatmap_1.20.0.tar.gz | 
| PackageFileSize: 2.503 MiB | 
############################################################################## ############################################################################## ### ### Running command: ### ### chmod a+r ComplexHeatmap -R && C:\Users\biocbuild\bbs-3.8-bioc\R\bin\R.exe CMD build --keep-empty-dirs --no-resave-data ComplexHeatmap ### ############################################################################## ############################################################################## * checking for file 'ComplexHeatmap/DESCRIPTION' ... OK * preparing 'ComplexHeatmap': * checking DESCRIPTION meta-information ... OK * installing the package to build vignettes * creating vignettes ... OK * checking for LF line-endings in source and make files and shell scripts * checking for empty or unneeded directories * building 'ComplexHeatmap_1.20.0.tar.gz'