| Back to Multiple platform build/check report for BioC 3.8 | 
  | 
This page was generated on 2019-04-13 11:21:05 -0400 (Sat, 13 Apr 2019).
| Package 250/1649 | Hostname | OS / Arch | INSTALL | BUILD | CHECK | BUILD BIN | ||||||
| ChIPseqR 1.36.0 Peter Humburg 
  | malbec1 | Linux (Ubuntu 16.04.6 LTS) / x86_64 | OK | OK | WARNINGS | |||||||
| tokay1 | Windows Server 2012 R2 Standard / x64 | OK | OK | WARNINGS | [ OK ] | |||||||
| merida1 | OS X 10.11.6 El Capitan / x86_64 | OK | OK | WARNINGS | OK | 
| Package: ChIPseqR | 
| Version: 1.36.0 | 
| Command: rm -rf ChIPseqR.buildbin-libdir && mkdir ChIPseqR.buildbin-libdir && C:\Users\biocbuild\bbs-3.8-bioc\R\bin\R.exe CMD INSTALL --merge-multiarch --build --library=ChIPseqR.buildbin-libdir ChIPseqR_1.36.0.tar.gz | 
| StartedAt: 2019-04-13 07:03:03 -0400 (Sat, 13 Apr 2019) | 
| EndedAt: 2019-04-13 07:03:44 -0400 (Sat, 13 Apr 2019) | 
| EllapsedTime: 41.3 seconds | 
| RetCode: 0 | 
| Status: OK | 
| PackageFile: ChIPseqR_1.36.0.zip | 
| PackageFileSize: 1.18 MiB | 
##############################################################################
##############################################################################
###
### Running command:
###
###   rm -rf ChIPseqR.buildbin-libdir && mkdir ChIPseqR.buildbin-libdir && C:\Users\biocbuild\bbs-3.8-bioc\R\bin\R.exe CMD INSTALL --merge-multiarch --build --library=ChIPseqR.buildbin-libdir ChIPseqR_1.36.0.tar.gz
###
##############################################################################
##############################################################################
install for i386
* installing *source* package 'ChIPseqR' ...
** libs
C:/Rtools/mingw_32/bin/gcc  -I"C:/Users/BIOCBU˜1/BBS-3˜1.8-B/R/include" -DNDEBUG     -I"C:/extsoft/include"     -O3 -Wall  -std=gnu99 -mtune=generic -c startScore.c -o startScore.o
startScore.c: In function '_ratioStat_pois':
startScore.c:66:15: warning: unused variable 'tmp_stat' [-Wunused-variable]
  double stat, tmp_stat;
               ^
C:/Rtools/mingw_32/bin/gcc -shared -s -static-libgcc -o ChIPseqR.dll tmp.def startScore.o -LC:/extsoft/lib/i386 -LC:/extsoft/lib -LC:/Users/BIOCBU˜1/BBS-3˜1.8-B/R/bin/i386 -lR
installing to C:/Users/biocbuild/bbs-3.8-bioc/meat/ChIPseqR.buildbin-libdir/ChIPseqR/libs/i386
** R
** inst
** byte-compile and prepare package for lazy loading
Warning: replacing previous import 'BiocGenerics::image' by 'graphics::image' when loading 'ChIPseqR'
Warning: replacing previous import 'S4Vectors::head' by 'utils::head' when loading 'ChIPseqR'
Warning: replacing previous import 'S4Vectors::tail' by 'utils::tail' when loading 'ChIPseqR'
** help
*** installing help indices
  converting help for package 'ChIPseqR'
    finding HTML links ... done
    BindScore                               html  
    ChIPseqR-package                        html  
    RLEBindScore-class                      html  
    finding level-2 HTML links ... done
    RLEReadCounts-class                     html  
    ReadCounts                              html  
    accessors                               html  
    alignFeature                            html  
    callBindingSites                        html  
    compress-BindScore                      html  
    compress-ReadCounts                     html  
    compress-methods                        html  
    decompress-methods                      html  
    decompress                              html  
    exportBindSequence                      html  
    getBindCor                              html  
    getBindLen                              html  
    getCutoff                               html  
    internal                                html  
    pickPeak                                html  
    plot-BindScore                          html  
    plot-ReadCounts                         html  
    plotReads                               html  
    plotWindow                              html  
    pos2gff                                 html  
    simpleNucCall                           html  
    startScore                              html  
    strandPileup                            html  
Rd warning: C:/Users/biocbuild/bbs-3.8-bioc/tmpdir/Rtmp4AXa9O/R.INSTALL42586c5d2747/ChIPseqR/man/strandPileup.Rd:29: file link 'coverage' in package 'IRanges' does not exist and so has been treated as a topic
Rd warning: C:/Users/biocbuild/bbs-3.8-bioc/tmpdir/Rtmp4AXa9O/R.INSTALL42586c5d2747/ChIPseqR/man/strandPileup.Rd:46: file link 'coverage' in package 'IRanges' does not exist and so has been treated as a topic
    windowCounts                            html  
** building package indices
** installing vignettes
** testing if installed package can be loaded
Warning: replacing previous import 'BiocGenerics::image' by 'graphics::image' when loading 'ChIPseqR'
Warning: replacing previous import 'S4Vectors::head' by 'utils::head' when loading 'ChIPseqR'
Warning: replacing previous import 'S4Vectors::tail' by 'utils::tail' when loading 'ChIPseqR'
In R CMD INSTALL
install for x64
* installing *source* package 'ChIPseqR' ...
** libs
C:/Rtools/mingw_64/bin/gcc  -I"C:/Users/BIOCBU˜1/BBS-3˜1.8-B/R/include" -DNDEBUG     -I"C:/extsoft/include"     -O2 -Wall  -std=gnu99 -mtune=generic -c startScore.c -o startScore.o
startScore.c: In function '_ratioStat_pois':
startScore.c:66:15: warning: unused variable 'tmp_stat' [-Wunused-variable]
  double stat, tmp_stat;
               ^
C:/Rtools/mingw_64/bin/gcc -shared -s -static-libgcc -o ChIPseqR.dll tmp.def startScore.o -LC:/extsoft/lib/x64 -LC:/extsoft/lib -LC:/Users/BIOCBU˜1/BBS-3˜1.8-B/R/bin/x64 -lR
installing to C:/Users/biocbuild/bbs-3.8-bioc/meat/ChIPseqR.buildbin-libdir/ChIPseqR/libs/x64
** testing if installed package can be loaded
Warning: replacing previous import 'BiocGenerics::image' by 'graphics::image' when loading 'ChIPseqR'
Warning: replacing previous import 'S4Vectors::head' by 'utils::head' when loading 'ChIPseqR'
Warning: replacing previous import 'S4Vectors::tail' by 'utils::tail' when loading 'ChIPseqR'
* MD5 sums
packaged installation of 'ChIPseqR' as ChIPseqR_1.36.0.zip
* DONE (ChIPseqR)
In R CMD INSTALL
In R CMD INSTALL