| Back to Multiple platform build/check report for BioC 3.8 |
|
This page was generated on 2019-04-16 11:52:59 -0400 (Tue, 16 Apr 2019).
| Package 242/1649 | Hostname | OS / Arch | INSTALL | BUILD | CHECK | BUILD BIN | ||||||
| ChIPanalyser 1.4.0 Patrick C.N. Martin
| malbec1 | Linux (Ubuntu 16.04.6 LTS) / x86_64 | OK | [ OK ] | OK | |||||||
| merida1 | OS X 10.11.6 El Capitan / x86_64 | OK | OK | OK | OK |
| Package: ChIPanalyser |
| Version: 1.4.0 |
| Command: /home/biocbuild/bbs-3.8-bioc/R/bin/R CMD build --keep-empty-dirs --no-resave-data ChIPanalyser |
| StartedAt: 2019-04-15 21:26:06 -0400 (Mon, 15 Apr 2019) |
| EndedAt: 2019-04-15 21:30:04 -0400 (Mon, 15 Apr 2019) |
| EllapsedTime: 238.1 seconds |
| RetCode: 0 |
| Status: OK |
| PackageFile: ChIPanalyser_1.4.0.tar.gz |
| PackageFileSize: 579.8 KiB |
############################################################################## ############################################################################## ### ### Running command: ### ### /home/biocbuild/bbs-3.8-bioc/R/bin/R CMD build --keep-empty-dirs --no-resave-data ChIPanalyser ### ############################################################################## ############################################################################## * checking for file ‘ChIPanalyser/DESCRIPTION’ ... OK * preparing ‘ChIPanalyser’: * checking DESCRIPTION meta-information ... OK * installing the package to process help pages * saving partial Rd database * creating vignettes ... OK * checking for LF line-endings in source and make files and shell scripts * checking for empty or unneeded directories * looking to see if a ‘data/datalist’ file should be added * building ‘ChIPanalyser_1.4.0.tar.gz’