Back to Multiple platform build/check report for BioC 3.8 |
|
This page was generated on 2019-04-16 12:05:44 -0400 (Tue, 16 Apr 2019).
Package 251/1649 | Hostname | OS / Arch | INSTALL | BUILD | CHECK | BUILD BIN | ||||||
ChIPSeqSpike 1.2.1 Nicolas Descostes
| malbec1 | Linux (Ubuntu 16.04.6 LTS) / x86_64 | OK | OK | OK | ![]() | ||||||
merida1 | OS X 10.11.6 El Capitan / x86_64 | OK | OK | [ OK ] | OK | ![]() |
Package: ChIPSeqSpike |
Version: 1.2.1 |
Command: /Library/Frameworks/R.framework/Versions/Current/Resources/bin/R CMD check --install=check:ChIPSeqSpike.install-out.txt --library=/Library/Frameworks/R.framework/Versions/Current/Resources/library --no-vignettes --timings ChIPSeqSpike_1.2.1.tar.gz |
StartedAt: 2019-04-15 22:56:25 -0400 (Mon, 15 Apr 2019) |
EndedAt: 2019-04-15 23:03:20 -0400 (Mon, 15 Apr 2019) |
EllapsedTime: 414.7 seconds |
RetCode: 0 |
Status: OK |
CheckDir: ChIPSeqSpike.Rcheck |
Warnings: 0 |
############################################################################## ############################################################################## ### ### Running command: ### ### /Library/Frameworks/R.framework/Versions/Current/Resources/bin/R CMD check --install=check:ChIPSeqSpike.install-out.txt --library=/Library/Frameworks/R.framework/Versions/Current/Resources/library --no-vignettes --timings ChIPSeqSpike_1.2.1.tar.gz ### ############################################################################## ############################################################################## * using log directory ‘/Users/biocbuild/bbs-3.8-bioc/meat/ChIPSeqSpike.Rcheck’ * using R version 3.5.3 (2019-03-11) * using platform: x86_64-apple-darwin15.6.0 (64-bit) * using session charset: UTF-8 * using option ‘--no-vignettes’ * checking for file ‘ChIPSeqSpike/DESCRIPTION’ ... OK * checking extension type ... Package * this is package ‘ChIPSeqSpike’ version ‘1.2.1’ * checking package namespace information ... OK * checking package dependencies ... OK * checking if this is a source package ... OK * checking if there is a namespace ... OK * checking for hidden files and directories ... OK * checking for portable file names ... OK * checking for sufficient/correct file permissions ... OK * checking whether package ‘ChIPSeqSpike’ can be installed ... OK * checking installed package size ... OK * checking package directory ... OK * checking ‘build’ directory ... OK * checking DESCRIPTION meta-information ... OK * checking top-level files ... OK * checking for left-over files ... OK * checking index information ... OK * checking package subdirectories ... OK * checking R files for non-ASCII characters ... OK * checking R files for syntax errors ... OK * checking whether the package can be loaded ... OK * checking whether the package can be loaded with stated dependencies ... OK * checking whether the package can be unloaded cleanly ... OK * checking whether the namespace can be loaded with stated dependencies ... OK * checking whether the namespace can be unloaded cleanly ... OK * checking dependencies in R code ... OK * checking S3 generic/method consistency ... OK * checking replacement functions ... OK * checking foreign function calls ... OK * checking R code for possible problems ... OK * checking Rd files ... OK * checking Rd metadata ... OK * checking Rd cross-references ... OK * checking for missing documentation entries ... OK * checking for code/documentation mismatches ... OK * checking Rd \usage sections ... OK * checking Rd contents ... OK * checking for unstated dependencies in examples ... OK * checking contents of ‘data’ directory ... OK * checking data for non-ASCII characters ... OK * checking data for ASCII and uncompressed saves ... OK * checking sizes of PDF files under ‘inst/doc’ ... OK * checking installed files from ‘inst/doc’ ... OK * checking files in ‘vignettes’ ... OK * checking examples ... OK Examples with CPU or elapsed time > 5s user system elapsed spikePipe 13.417 0.425 13.964 averageBindingValues 12.666 0.532 13.405 exogenousScalingFactor 10.191 0.356 10.715 count 9.855 0.353 10.294 bigWigFile 9.805 0.340 10.266 exoCount 9.692 0.329 10.105 scalingFactor 9.469 0.304 9.831 extractBinding 9.398 0.317 9.800 matBindingValues 8.900 0.347 9.298 experimentList 8.933 0.295 9.317 * checking for unstated dependencies in ‘tests’ ... OK * checking tests ... Running ‘testthat.R’ OK * checking for unstated dependencies in vignettes ... OK * checking package vignettes in ‘inst/doc’ ... OK * checking running R code from vignettes ... SKIPPED * checking re-building of vignette outputs ... SKIPPED * checking PDF version of manual ... OK * DONE Status: OK
ChIPSeqSpike.Rcheck/00install.out
############################################################################## ############################################################################## ### ### Running command: ### ### /Library/Frameworks/R.framework/Versions/Current/Resources/bin/R CMD INSTALL ChIPSeqSpike ### ############################################################################## ############################################################################## * installing to library ‘/Library/Frameworks/R.framework/Versions/3.5/Resources/library’ * installing *source* package ‘ChIPSeqSpike’ ... ** R ** data ** inst ** byte-compile and prepare package for lazy loading ** help *** installing help indices ** building package indices ** installing vignettes ‘ChIPSeqSpike.Rmd’ using ‘UTF-8’ ** testing if installed package can be loaded * DONE (ChIPSeqSpike)
ChIPSeqSpike.Rcheck/tests/testthat.Rout
R version 3.5.3 (2019-03-11) -- "Great Truth" Copyright (C) 2019 The R Foundation for Statistical Computing Platform: x86_64-apple-darwin15.6.0 (64-bit) R is free software and comes with ABSOLUTELY NO WARRANTY. You are welcome to redistribute it under certain conditions. Type 'license()' or 'licence()' for distribution details. R is a collaborative project with many contributors. Type 'contributors()' for more information and 'citation()' on how to cite R or R packages in publications. Type 'demo()' for some demos, 'help()' for on-line help, or 'help.start()' for an HTML browser interface to help. Type 'q()' to quit R. > library("testthat") > library("ChIPSeqSpike") Loading required package: rtracklayer Loading required package: GenomicRanges Loading required package: stats4 Loading required package: BiocGenerics Loading required package: parallel Attaching package: 'BiocGenerics' The following objects are masked from 'package:parallel': clusterApply, clusterApplyLB, clusterCall, clusterEvalQ, clusterExport, clusterMap, parApply, parCapply, parLapply, parLapplyLB, parRapply, parSapply, parSapplyLB The following objects are masked from 'package:stats': IQR, mad, sd, var, xtabs The following objects are masked from 'package:base': Filter, Find, Map, Position, Reduce, anyDuplicated, append, as.data.frame, basename, cbind, colMeans, colSums, colnames, dirname, do.call, duplicated, eval, evalq, get, grep, grepl, intersect, is.unsorted, lapply, lengths, mapply, match, mget, order, paste, pmax, pmax.int, pmin, pmin.int, rank, rbind, rowMeans, rowSums, rownames, sapply, setdiff, sort, table, tapply, union, unique, unsplit, which, which.max, which.min Loading required package: S4Vectors Attaching package: 'S4Vectors' The following object is masked from 'package:base': expand.grid Loading required package: IRanges Loading required package: GenomeInfoDb > > proc.time() user system elapsed 12.735 0.697 13.525
ChIPSeqSpike.Rcheck/ChIPSeqSpike-Ex.timings
name | user | system | elapsed | |
ChIPSeqSpikeDataset-class | 0.018 | 0.001 | 0.022 | |
ChIPSeqSpikeDatasetBoost-class | 0.509 | 0.005 | 0.522 | |
ChIPSeqSpikeDatasetList-class | 0.045 | 0.003 | 0.048 | |
ChIPSeqSpikeDatasetListBoost-class | 0.688 | 0.021 | 0.713 | |
Experiment-class | 0.003 | 0.001 | 0.002 | |
ExperimentLoaded-class | 0.102 | 0.013 | 0.115 | |
averageBindingValues | 12.666 | 0.532 | 13.405 | |
bigWigFile | 9.805 | 0.340 | 10.266 | |
boxplotSpike | 1.661 | 0.061 | 1.743 | |
count | 9.855 | 0.353 | 10.294 | |
datasetList | 0.317 | 0.015 | 0.340 | |
estimateScalingFactors | 0.129 | 0.002 | 0.134 | |
exoCount | 9.692 | 0.329 | 10.105 | |
exogenousScalingFactor | 10.191 | 0.356 | 10.715 | |
experimentList | 8.933 | 0.295 | 9.317 | |
exportBigWigs | 1.095 | 0.039 | 1.142 | |
extractBinding | 9.398 | 0.317 | 9.800 | |
getAverageBindingValues | 0.341 | 0.013 | 0.356 | |
getBam | 0.301 | 0.006 | 0.309 | |
getBigWigFile | 0.298 | 0.007 | 0.307 | |
getCount | 0.317 | 0.006 | 0.327 | |
getDatasetList | 0.332 | 0.009 | 0.350 | |
getExoCount | 0.324 | 0.010 | 0.344 | |
getExogenousBam | 0.267 | 0.010 | 0.277 | |
getExogenousScalingFactor | 0.303 | 0.012 | 0.317 | |
getExpName | 0.314 | 0.012 | 0.326 | |
getExperimentList | 0.297 | 0.012 | 0.310 | |
getExperimentListBigWigs | 0.325 | 0.012 | 0.340 | |
getLoadedData | 0.186 | 0.001 | 0.188 | |
getMatBindingValues | 0.494 | 0.203 | 0.701 | |
getRatio | 0.160 | 0.009 | 0.170 | |
getScalingFactor | 0.319 | 0.011 | 0.331 | |
inputSubtraction | 1.474 | 0.016 | 1.507 | |
matBindingValues | 8.900 | 0.347 | 9.298 | |
plotCor | 0.519 | 0.021 | 0.546 | |
plotHeatmaps | 0.788 | 0.030 | 0.830 | |
plotProfile | 0.728 | 0.017 | 0.751 | |
plotTransform | 0.733 | 0.028 | 0.767 | |
scaling | 2.211 | 0.023 | 2.259 | |
scalingFactor | 9.469 | 0.304 | 9.831 | |
spikeDataset | 0.595 | 0.010 | 0.613 | |
spikePipe | 13.417 | 0.425 | 13.964 | |
spikeSummary | 0.005 | 0.001 | 0.006 | |