| Back to Multiple platform build/check report for BioC 3.8 |
|
This page was generated on 2019-04-13 11:28:51 -0400 (Sat, 13 Apr 2019).
| Package 221/1649 | Hostname | OS / Arch | INSTALL | BUILD | CHECK | BUILD BIN | ||||||
| CellScore 1.2.0 Nancy Mah
| malbec1 | Linux (Ubuntu 16.04.6 LTS) / x86_64 | OK | OK | OK | |||||||
| tokay1 | Windows Server 2012 R2 Standard / x64 | OK | [ OK ] | OK | OK | |||||||
| merida1 | OS X 10.11.6 El Capitan / x86_64 | OK | OK | OK | OK |
| Package: CellScore |
| Version: 1.2.0 |
| Command: chmod a+r CellScore -R && C:\Users\biocbuild\bbs-3.8-bioc\R\bin\R.exe CMD build --keep-empty-dirs --no-resave-data CellScore |
| StartedAt: 2019-04-12 23:42:02 -0400 (Fri, 12 Apr 2019) |
| EndedAt: 2019-04-12 23:44:58 -0400 (Fri, 12 Apr 2019) |
| EllapsedTime: 175.1 seconds |
| RetCode: 0 |
| Status: OK |
| PackageFile: CellScore_1.2.0.tar.gz |
| PackageFileSize: 4.111 MiB |
##############################################################################
##############################################################################
###
### Running command:
###
### chmod a+r CellScore -R && C:\Users\biocbuild\bbs-3.8-bioc\R\bin\R.exe CMD build --keep-empty-dirs --no-resave-data CellScore
###
##############################################################################
##############################################################################
* checking for file 'CellScore/DESCRIPTION' ... OK
* preparing 'CellScore':
* checking DESCRIPTION meta-information ... OK
* installing the package to build vignettes
* creating vignettes ... OK
Warning: 'inst/doc' files
'CellScoreVignette.Rnw', 'CellScoreVignette.pdf', 'CellScoreVignette.R'
ignored as vignettes have been rebuilt.
Run R CMD build with --no-build-vignettes to prevent rebuilding.
* checking for LF line-endings in source and make files and shell scripts
* checking for empty or unneeded directories
* building 'CellScore_1.2.0.tar.gz'