| Back to Multiple platform build/check report for BioC 3.8 |
|
This page was generated on 2019-04-16 11:49:26 -0400 (Tue, 16 Apr 2019).
| Package 219/1649 | Hostname | OS / Arch | INSTALL | BUILD | CHECK | BUILD BIN | ||||||
| CellNOptR 1.28.1 A.Gabor
| malbec1 | Linux (Ubuntu 16.04.6 LTS) / x86_64 | [ OK ] | OK | WARNINGS | |||||||
| merida1 | OS X 10.11.6 El Capitan / x86_64 | OK | OK | WARNINGS | OK |
| Package: CellNOptR |
| Version: 1.28.1 |
| Command: /home/biocbuild/bbs-3.8-bioc/R/bin/R CMD INSTALL CellNOptR |
| StartedAt: 2019-04-15 18:17:09 -0400 (Mon, 15 Apr 2019) |
| EndedAt: 2019-04-15 18:17:23 -0400 (Mon, 15 Apr 2019) |
| EllapsedTime: 14.4 seconds |
| RetCode: 0 |
| Status: OK |
##############################################################################
##############################################################################
###
### Running command:
###
### /home/biocbuild/bbs-3.8-bioc/R/bin/R CMD INSTALL CellNOptR
###
##############################################################################
##############################################################################
* installing to library ‘/home/biocbuild/bbs-3.8-bioc/R/library’
* installing *source* package ‘CellNOptR’ ...
** libs
gcc -I"/home/biocbuild/bbs-3.8-bioc/R/include" -DNDEBUG -I/usr/local/include -I./include -fpic -g -O2 -Wall -c getFit.c -o getFit.o
getFit.c: In function ‘getFit’:
getFit.c:47:6: warning: unused variable ‘nReacs’ [-Wunused-variable]
int nReacs = INTEGER(nReacs_in)[0];
^
getFit.c:42:6: warning: unused variable ‘selCounter’ [-Wunused-variable]
int selCounter = 0;
^
getFit.c:41:6: warning: unused variable ‘selection’ [-Wunused-variable]
int selection[40];
^
getFit.c:40:6: warning: unused variable ‘or_max’ [-Wunused-variable]
int or_max = 0;
^
getFit.c:39:6: warning: unused variable ‘curr_max’ [-Wunused-variable]
int curr_max = 0;
^
gcc -I"/home/biocbuild/bbs-3.8-bioc/R/include" -DNDEBUG -I/usr/local/include -I./include -fpic -g -O2 -Wall -c simulatorT1.c -o simulatorT1.o
gcc -I"/home/biocbuild/bbs-3.8-bioc/R/include" -DNDEBUG -I/usr/local/include -I./include -fpic -g -O2 -Wall -c simulatorTN.c -o simulatorTN.o
gcc -shared -L/home/biocbuild/bbs-3.8-bioc/R/lib -L/usr/local/lib -o CellNOptR.so getFit.o simulatorT1.o simulatorTN.o -L/home/biocbuild/bbs-3.8-bioc/R/lib -lR
installing to /home/biocbuild/bbs-3.8-bioc/R/library/CellNOptR/libs
** R
** data
** inst
** byte-compile and prepare package for lazy loading
** help
*** installing help indices
** building package indices
** installing vignettes
‘CellNOptR-vignette.Rnw’
** testing if installed package can be loaded
* DONE (CellNOptR)