| Back to Multiple platform build/check report for BioC 3.8 |
|
This page was generated on 2019-04-13 11:26:58 -0400 (Sat, 13 Apr 2019).
| Package 218/1649 | Hostname | OS / Arch | INSTALL | BUILD | CHECK | BUILD BIN | ||||||
| CellMapper 1.8.0 Brad Nelms
| malbec1 | Linux (Ubuntu 16.04.6 LTS) / x86_64 | OK | OK | WARNINGS | |||||||
| tokay1 | Windows Server 2012 R2 Standard / x64 | OK | OK | WARNINGS | [ OK ] | |||||||
| merida1 | OS X 10.11.6 El Capitan / x86_64 | OK | OK | WARNINGS | OK |
| Package: CellMapper |
| Version: 1.8.0 |
| Command: rm -rf CellMapper.buildbin-libdir && mkdir CellMapper.buildbin-libdir && C:\Users\biocbuild\bbs-3.8-bioc\R\bin\R.exe CMD INSTALL --merge-multiarch --build --library=CellMapper.buildbin-libdir CellMapper_1.8.0.tar.gz |
| StartedAt: 2019-04-13 07:01:24 -0400 (Sat, 13 Apr 2019) |
| EndedAt: 2019-04-13 07:01:41 -0400 (Sat, 13 Apr 2019) |
| EllapsedTime: 17.1 seconds |
| RetCode: 0 |
| Status: OK |
| PackageFile: CellMapper_1.8.0.zip |
| PackageFileSize: 301.8 KiB |
##############################################################################
##############################################################################
###
### Running command:
###
### rm -rf CellMapper.buildbin-libdir && mkdir CellMapper.buildbin-libdir && C:\Users\biocbuild\bbs-3.8-bioc\R\bin\R.exe CMD INSTALL --merge-multiarch --build --library=CellMapper.buildbin-libdir CellMapper_1.8.0.tar.gz
###
##############################################################################
##############################################################################
install for i386
* installing *source* package 'CellMapper' ...
** R
** data
** inst
** byte-compile and prepare package for lazy loading
Warning: replacing previous import 'stats::var' by 'S4Vectors::var' when loading 'CellMapper'
Warning: replacing previous import 'stats::sd' by 'S4Vectors::sd' when loading 'CellMapper'
** help
*** installing help indices
converting help for package 'CellMapper'
finding HTML links ... done
CMprep html
Rd warning: C:/Users/biocbuild/bbs-3.8-bioc/tmpdir/Rtmpwld1XE/R.INSTALL27343251216b/CellMapper/man/CMprep.Rd:51: file link 'ExpressionSet' in package 'Biobase' does not exist and so has been treated as a topic
Rd warning: C:/Users/biocbuild/bbs-3.8-bioc/tmpdir/Rtmpwld1XE/R.INSTALL27343251216b/CellMapper/man/CMprep.Rd:52: file link 'CellMapperData' in package 'CellMapperData' does not exist and so has been treated as a topic
CMsearch html
Rd warning: C:/Users/biocbuild/bbs-3.8-bioc/tmpdir/Rtmpwld1XE/R.INSTALL27343251216b/CellMapper/man/CMsearch.Rd:74: file link 'CellMapperData' in package 'CellMapperData' does not exist and so has been treated as a topic
CellMapperList-class html
ExampleGeneLists html
Rd warning: C:/Users/biocbuild/bbs-3.8-bioc/tmpdir/Rtmpwld1XE/R.INSTALL27343251216b/CellMapper/man/ExampleGeneLists.Rd:51: file link 'CellMapperData' in package 'CellMapperData' does not exist and so has been treated as a topic
Rd warning: C:/Users/biocbuild/bbs-3.8-bioc/tmpdir/Rtmpwld1XE/R.INSTALL27343251216b/CellMapper/man/ExampleGeneLists.Rd:52: file link 'ExperimentHub' in package 'ExperimentHub' does not exist and so has been treated as a topic
ReplicateManuscript html
Rd warning: C:/Users/biocbuild/bbs-3.8-bioc/tmpdir/Rtmpwld1XE/R.INSTALL27343251216b/CellMapper/man/ReplicateManuscript.Rd:33: file link 'CellMapperData' in package 'CellMapperData' does not exist and so has been treated as a topic
Rd warning: C:/Users/biocbuild/bbs-3.8-bioc/tmpdir/Rtmpwld1XE/R.INSTALL27343251216b/CellMapper/man/ReplicateManuscript.Rd:34: file link 'ExperimentHub' in package 'ExperimentHub' does not exist and so has been treated as a topic
** building package indices
** installing vignettes
** testing if installed package can be loaded
Warning: replacing previous import 'stats::var' by 'S4Vectors::var' when loading 'CellMapper'
Warning: replacing previous import 'stats::sd' by 'S4Vectors::sd' when loading 'CellMapper'
In R CMD INSTALL
install for x64
* installing *source* package 'CellMapper' ...
** testing if installed package can be loaded
Warning: replacing previous import 'stats::sd' by 'S4Vectors::sd' when loading 'CellMapper'
Warning: replacing previous import 'stats::var' by 'S4Vectors::var' when loading 'CellMapper'
* MD5 sums
packaged installation of 'CellMapper' as CellMapper_1.8.0.zip
* DONE (CellMapper)
In R CMD INSTALL
In R CMD INSTALL