| Back to Multiple platform build/check report for BioC 3.8 | 
  | 
This page was generated on 2019-04-16 11:57:27 -0400 (Tue, 16 Apr 2019).
| Package 310/1649 | Hostname | OS / Arch | INSTALL | BUILD | CHECK | BUILD BIN | ||||||
| COMPASS 1.20.1 Greg Finak 
  | malbec1 | Linux (Ubuntu 16.04.6 LTS) / x86_64 | OK | OK | OK | |||||||
| merida1 | OS X 10.11.6 El Capitan / x86_64 | OK | [ OK ] | OK | OK | 
| Package: COMPASS | 
| Version: 1.20.1 | 
| Command: /Library/Frameworks/R.framework/Versions/Current/Resources/bin/R CMD build --keep-empty-dirs --no-resave-data COMPASS | 
| StartedAt: 2019-04-15 19:56:49 -0400 (Mon, 15 Apr 2019) | 
| EndedAt: 2019-04-15 20:00:54 -0400 (Mon, 15 Apr 2019) | 
| EllapsedTime: 245.4 seconds | 
| RetCode: 0 | 
| Status: OK | 
| PackageFile: COMPASS_1.20.1.tar.gz | 
| PackageFileSize: 1007 KiB | 
############################################################################## ############################################################################## ### ### Running command: ### ### /Library/Frameworks/R.framework/Versions/Current/Resources/bin/R CMD build --keep-empty-dirs --no-resave-data COMPASS ### ############################################################################## ############################################################################## * checking for file ‘COMPASS/DESCRIPTION’ ... OK * preparing ‘COMPASS’: * checking DESCRIPTION meta-information ... OK * cleaning src * running ‘cleanup’ * installing the package to build vignettes * creating vignettes ... OK * cleaning src * running ‘cleanup’ * checking for LF line-endings in source and make files and shell scripts * checking for empty or unneeded directories WARNING: directory ‘COMPASS/examples’ is empty WARNING: directory ‘COMPASS/incubator’ is empty WARNING: directory ‘COMPASS/internal’ is empty WARNING: directory ‘COMPASS/refactor’ is empty WARNING: directory ‘COMPASS/scratch’ is empty * looking to see if a ‘data/datalist’ file should be added * building ‘COMPASS_1.20.1.tar.gz’