| Back to Multiple platform build/check report for BioC 3.8 |
|
This page was generated on 2019-04-16 11:50:21 -0400 (Tue, 16 Apr 2019).
| Package 307/1649 | Hostname | OS / Arch | INSTALL | BUILD | CHECK | BUILD BIN | ||||||
| COHCAP 1.28.1 Charles Warden
| malbec1 | Linux (Ubuntu 16.04.6 LTS) / x86_64 | OK | [ OK ] | OK | |||||||
| merida1 | OS X 10.11.6 El Capitan / x86_64 | OK | OK | OK | OK |
| Package: COHCAP |
| Version: 1.28.1 |
| Command: /home/biocbuild/bbs-3.8-bioc/R/bin/R CMD build --keep-empty-dirs --no-resave-data COHCAP |
| StartedAt: 2019-04-15 19:39:31 -0400 (Mon, 15 Apr 2019) |
| EndedAt: 2019-04-15 19:39:58 -0400 (Mon, 15 Apr 2019) |
| EllapsedTime: 26.6 seconds |
| RetCode: 0 |
| Status: OK |
| PackageFile: COHCAP_1.28.1.tar.gz |
| PackageFileSize: 188.9 KiB |
############################################################################## ############################################################################## ### ### Running command: ### ### /home/biocbuild/bbs-3.8-bioc/R/bin/R CMD build --keep-empty-dirs --no-resave-data COHCAP ### ############################################################################## ############################################################################## * checking for file ‘COHCAP/DESCRIPTION’ ... OK * preparing ‘COHCAP’: * checking DESCRIPTION meta-information ... OK * cleaning src * installing the package to build vignettes * creating vignettes ... OK * cleaning src * checking for LF line-endings in source and make files and shell scripts * checking for empty or unneeded directories * building ‘COHCAP_1.28.1.tar.gz’