Back to Multiple platform build/check report for BioC 3.8 |
|
This page was generated on 2019-04-16 11:57:16 -0400 (Tue, 16 Apr 2019).
Package 296/1649 | Hostname | OS / Arch | INSTALL | BUILD | CHECK | BUILD BIN | ||||||
CNVrd2 1.20.0 Hoang Tan Nguyen
| malbec1 | Linux (Ubuntu 16.04.6 LTS) / x86_64 | OK | OK | OK | ![]() | ||||||
merida1 | OS X 10.11.6 El Capitan / x86_64 | OK | OK | OK | [ OK ] | ![]() |
Package: CNVrd2 |
Version: 1.20.0 |
Command: rm -rf CNVrd2.buildbin-libdir && mkdir CNVrd2.buildbin-libdir && /Users/biocbuild/BBS/utils/build-universal.sh CNVrd2_1.20.0.tar.gz /Library/Frameworks/R.framework/Versions/Current/Resources/bin/R CNVrd2.buildbin-libdir |
StartedAt: 2019-04-16 03:52:09 -0400 (Tue, 16 Apr 2019) |
EndedAt: 2019-04-16 03:52:53 -0400 (Tue, 16 Apr 2019) |
EllapsedTime: 43.8 seconds |
RetCode: 0 |
Status: OK |
PackageFile: CNVrd2_1.20.0.tgz |
PackageFileSize: 2.879 MiB |
############################################################################## ############################################################################## ### ### Running command: ### ### rm -rf CNVrd2.buildbin-libdir && mkdir CNVrd2.buildbin-libdir && /Users/biocbuild/BBS/utils/build-universal.sh CNVrd2_1.20.0.tar.gz /Library/Frameworks/R.framework/Versions/Current/Resources/bin/R CNVrd2.buildbin-libdir ### ############################################################################## ############################################################################## >>>>>>> >>>>>>> INSTALLATION WITH 'R CMD INSTALL --preclean --no-multiarch --library=CNVrd2.buildbin-libdir CNVrd2_1.20.0.tar.gz' >>>>>>> * installing *source* package ‘CNVrd2’ ... ** R ** data ** inst ** byte-compile and prepare package for lazy loading ** help *** installing help indices ** building package indices ** installing vignettes ** testing if installed package can be loaded * DONE (CNVrd2)