| Back to Multiple platform build/check report for BioC 3.8 |
|
This page was generated on 2019-04-16 11:54:52 -0400 (Tue, 16 Apr 2019).
| Package 283/1649 | Hostname | OS / Arch | INSTALL | BUILD | CHECK | BUILD BIN | ||||||
| CMA 1.40.0 Christoph Bernau
| malbec1 | Linux (Ubuntu 16.04.6 LTS) / x86_64 | OK | OK | OK | |||||||
| merida1 | OS X 10.11.6 El Capitan / x86_64 | OK | OK | OK | [ OK ] |
| Package: CMA |
| Version: 1.40.0 |
| Command: rm -rf CMA.buildbin-libdir && mkdir CMA.buildbin-libdir && /Users/biocbuild/BBS/utils/build-universal.sh CMA_1.40.0.tar.gz /Library/Frameworks/R.framework/Versions/Current/Resources/bin/R CMA.buildbin-libdir |
| StartedAt: 2019-04-16 03:51:33 -0400 (Tue, 16 Apr 2019) |
| EndedAt: 2019-04-16 03:52:20 -0400 (Tue, 16 Apr 2019) |
| EllapsedTime: 46.7 seconds |
| RetCode: 0 |
| Status: OK |
| PackageFile: CMA_1.40.0.tgz |
| PackageFileSize: 1.678 MiB |
############################################################################## ############################################################################## ### ### Running command: ### ### rm -rf CMA.buildbin-libdir && mkdir CMA.buildbin-libdir && /Users/biocbuild/BBS/utils/build-universal.sh CMA_1.40.0.tar.gz /Library/Frameworks/R.framework/Versions/Current/Resources/bin/R CMA.buildbin-libdir ### ############################################################################## ############################################################################## >>>>>>> >>>>>>> INSTALLATION WITH 'R CMD INSTALL --preclean --no-multiarch --library=CMA.buildbin-libdir CMA_1.40.0.tar.gz' >>>>>>> * installing *source* package ‘CMA’ ... ** R ** data ** inst ** byte-compile and prepare package for lazy loading ** help *** installing help indices ** building package indices ** installing vignettes ** testing if installed package can be loaded * DONE (CMA)