| Back to Multiple platform build/check report for BioC 3.8 | 
  | 
This page was generated on 2019-04-13 11:26:42 -0400 (Sat, 13 Apr 2019).
| Package 262/1649 | Hostname | OS / Arch | INSTALL | BUILD | CHECK | BUILD BIN | ||||||
| CHRONOS 1.10.1 Panos Balomenos 
  | malbec1 | Linux (Ubuntu 16.04.6 LTS) / x86_64 | OK | OK | OK | |||||||
| tokay1 | Windows Server 2012 R2 Standard / x64 | OK | OK | OK | [ OK ] | |||||||
| merida1 | OS X 10.11.6 El Capitan / x86_64 | OK | OK | OK | OK | 
| Package: CHRONOS | 
| Version: 1.10.1 | 
| Command: rm -rf CHRONOS.buildbin-libdir && mkdir CHRONOS.buildbin-libdir && C:\Users\biocbuild\bbs-3.8-bioc\R\bin\R.exe CMD INSTALL --merge-multiarch --build --library=CHRONOS.buildbin-libdir CHRONOS_1.10.1.tar.gz | 
| StartedAt: 2019-04-13 07:03:42 -0400 (Sat, 13 Apr 2019) | 
| EndedAt: 2019-04-13 07:04:28 -0400 (Sat, 13 Apr 2019) | 
| EllapsedTime: 46.3 seconds | 
| RetCode: 0 | 
| Status: OK | 
| PackageFile: CHRONOS_1.10.1.zip | 
| PackageFileSize: 1.312 MiB | 
##############################################################################
##############################################################################
###
### Running command:
###
###   rm -rf CHRONOS.buildbin-libdir && mkdir CHRONOS.buildbin-libdir && C:\Users\biocbuild\bbs-3.8-bioc\R\bin\R.exe CMD INSTALL --merge-multiarch --build --library=CHRONOS.buildbin-libdir CHRONOS_1.10.1.tar.gz
###
##############################################################################
##############################################################################
install for i386
* installing *source* package 'CHRONOS' ...
** R
** inst
** byte-compile and prepare package for lazy loading
** help
*** installing help indices
  converting help for package 'CHRONOS'
    finding HTML links ... done
    CHRONOSrun                              html  
    convertMiRNANomenclature                html  
    convertNomenclature                     html  
    createPathwayGraphs                     html  
    downloadKEGGPathwayList                 html  
    downloadMiRecords                       html  
    downloadPathways                        html  
    extractLinearSubpathways                html  
    extractNonLinearSubpathways             html  
    getEdgeTypes                            html  
    importExpressions                       html  
    pathwayMeasures                         html  
    scoreSubpathways                        html  
    subpathwayKEGGmap                       html  
    subpathwayMiRNAs                        html  
    visualizeResults                        html  
** building package indices
** installing vignettes
** testing if installed package can be loaded
In R CMD INSTALL
install for x64
* installing *source* package 'CHRONOS' ...
** testing if installed package can be loaded
* MD5 sums
packaged installation of 'CHRONOS' as CHRONOS_1.10.1.zip
* DONE (CHRONOS)
In R CMD INSTALL
In R CMD INSTALL