Back to Multiple platform build/check report for BioC 3.8 |
|
This page was generated on 2019-04-16 11:48:42 -0400 (Tue, 16 Apr 2019).
Package 193/1649 | Hostname | OS / Arch | INSTALL | BUILD | CHECK | BUILD BIN | ||||||
CAMERA 1.38.1 Steffen Neumann
| malbec1 | Linux (Ubuntu 16.04.6 LTS) / x86_64 | OK | [ OK ] | OK | ![]() | ||||||
merida1 | OS X 10.11.6 El Capitan / x86_64 | OK | OK | OK | OK | ![]() |
Package: CAMERA |
Version: 1.38.1 |
Command: /home/biocbuild/bbs-3.8-bioc/R/bin/R CMD build --keep-empty-dirs --no-resave-data CAMERA |
StartedAt: 2019-04-15 18:50:29 -0400 (Mon, 15 Apr 2019) |
EndedAt: 2019-04-15 18:51:22 -0400 (Mon, 15 Apr 2019) |
EllapsedTime: 53.5 seconds |
RetCode: 0 |
Status: OK |
PackageFile: CAMERA_1.38.1.tar.gz |
PackageFileSize: 2.072 MiB |
############################################################################## ############################################################################## ### ### Running command: ### ### /home/biocbuild/bbs-3.8-bioc/R/bin/R CMD build --keep-empty-dirs --no-resave-data CAMERA ### ############################################################################## ############################################################################## * checking for file ‘CAMERA/DESCRIPTION’ ... OK * preparing ‘CAMERA’: * checking DESCRIPTION meta-information ... OK * cleaning src * installing the package to build vignettes * creating vignettes ... OK * cleaning src * checking for LF line-endings in source and make files and shell scripts * checking for empty or unneeded directories * looking to see if a ‘data/datalist’ file should be added * building ‘CAMERA_1.38.1.tar.gz’