| Back to Multiple platform build/check report for BioC 3.8 |
|
This page was generated on 2019-04-16 11:48:19 -0400 (Tue, 16 Apr 2019).
| Package 192/1649 | Hostname | OS / Arch | INSTALL | BUILD | CHECK | BUILD BIN | ||||||
| CALIB 1.48.0 Hui Zhao
| malbec1 | Linux (Ubuntu 16.04.6 LTS) / x86_64 | OK | OK | [ OK ] | |||||||
| merida1 | OS X 10.11.6 El Capitan / x86_64 | OK | OK | WARNINGS | OK |
| Package: CALIB |
| Version: 1.48.0 |
| Command: /home/biocbuild/bbs-3.8-bioc/R/bin/R CMD check --install=check:CALIB.install-out.txt --library=/home/biocbuild/bbs-3.8-bioc/R/library --no-vignettes --timings CALIB_1.48.0.tar.gz |
| StartedAt: 2019-04-15 22:38:08 -0400 (Mon, 15 Apr 2019) |
| EndedAt: 2019-04-15 22:38:46 -0400 (Mon, 15 Apr 2019) |
| EllapsedTime: 37.6 seconds |
| RetCode: 0 |
| Status: OK |
| CheckDir: CALIB.Rcheck |
| Warnings: 0 |
##############################################################################
##############################################################################
###
### Running command:
###
### /home/biocbuild/bbs-3.8-bioc/R/bin/R CMD check --install=check:CALIB.install-out.txt --library=/home/biocbuild/bbs-3.8-bioc/R/library --no-vignettes --timings CALIB_1.48.0.tar.gz
###
##############################################################################
##############################################################################
* using log directory ‘/home/biocbuild/bbs-3.8-bioc/meat/CALIB.Rcheck’
* using R version 3.5.3 (2019-03-11)
* using platform: x86_64-pc-linux-gnu (64-bit)
* using session charset: UTF-8
* using option ‘--no-vignettes’
* checking for file ‘CALIB/DESCRIPTION’ ... OK
* checking extension type ... Package
* this is package ‘CALIB’ version ‘1.48.0’
* checking package namespace information ... OK
* checking package dependencies ... OK
* checking if this is a source package ... OK
* checking if there is a namespace ... OK
* checking for hidden files and directories ... OK
* checking for portable file names ... OK
* checking for sufficient/correct file permissions ... OK
* checking whether package ‘CALIB’ can be installed ... OK
* checking installed package size ... NOTE
installed size is 6.0Mb
sub-directories of 1Mb or more:
arraydata 2.2Mb
libs 2.7Mb
* checking package directory ... OK
* checking ‘build’ directory ... OK
* checking DESCRIPTION meta-information ... NOTE
Packages listed in more than one of Depends, Imports, Suggests, Enhances:
‘limma’ ‘methods’
A package should be listed in only one of these fields.
* checking top-level files ... OK
* checking for left-over files ... OK
* checking index information ... OK
* checking package subdirectories ... OK
* checking R files for non-ASCII characters ... OK
* checking R files for syntax errors ... OK
* checking whether the package can be loaded ... OK
* checking whether the package can be loaded with stated dependencies ... OK
* checking whether the package can be unloaded cleanly ... OK
* checking whether the namespace can be loaded with stated dependencies ... OK
* checking whether the namespace can be unloaded cleanly ... OK
* checking dependencies in R code ... OK
* checking S3 generic/method consistency ... OK
* checking replacement functions ... OK
* checking foreign function calls ... OK
* checking R code for possible problems ... NOTE
read.rg: warning in scan(fullname, what = "", sep = sep, quote = quote,
skip = 1, nlines = 1, quiet = TRUE, allowEscape = FALSE): partial
argument match of 'allowEscape' to 'allowEscapes'
getColClasses: no visible global function definition for ‘namesInFun’
plotSpikeCI: no visible binding for global variable ‘otherindex’
read.rg: no visible global function definition for ‘readBlueFuseHeader’
read.spike: no visible binding for global variable ‘files’
Undefined global functions or variables:
files namesInFun otherindex readBlueFuseHeader
* checking Rd files ... OK
* checking Rd metadata ... OK
* checking Rd cross-references ... OK
* checking for missing documentation entries ... OK
* checking for code/documentation mismatches ... OK
* checking Rd \usage sections ... OK
* checking Rd contents ... OK
* checking for unstated dependencies in examples ... OK
* checking contents of ‘data’ directory ... OK
* checking data for non-ASCII characters ... OK
* checking data for ASCII and uncompressed saves ... OK
* checking line endings in C/C++/Fortran sources/headers ... OK
* checking compiled code ... NOTE
Note: information on .o files is not available
* checking files in ‘vignettes’ ... OK
* checking examples ... OK
Examples with CPU or elapsed time > 5s
user system elapsed
estimateParameter 7.016 0 7.023
* checking for unstated dependencies in vignettes ... OK
* checking package vignettes in ‘inst/doc’ ... OK
* checking running R code from vignettes ... SKIPPED
* checking re-building of vignette outputs ... SKIPPED
* checking PDF version of manual ... OK
* DONE
Status: 4 NOTEs
See
‘/home/biocbuild/bbs-3.8-bioc/meat/CALIB.Rcheck/00check.log’
for details.
CALIB.Rcheck/00install.out
##############################################################################
##############################################################################
###
### Running command:
###
### /home/biocbuild/bbs-3.8-bioc/R/bin/R CMD INSTALL CALIB
###
##############################################################################
##############################################################################
* installing to library ‘/home/biocbuild/bbs-3.8-bioc/R/library’
* installing *source* package ‘CALIB’ ...
** libs
g++ -I"/home/biocbuild/bbs-3.8-bioc/R/include" -DNDEBUG -I/usr/local/include -fpic -g -O2 -Wall -c Design.cpp -o Design.o
g++ -I"/home/biocbuild/bbs-3.8-bioc/R/include" -DNDEBUG -I/usr/local/include -fpic -g -O2 -Wall -c Estimation.cpp -o Estimation.o
Estimation.cpp: In function ‘SEXPREC* estimation(SEXP, SEXP, SEXP, SEXP, SEXP, SEXP, SEXP, SEXP)’:
Estimation.cpp:147:78: warning: deprecated conversion from string constant to ‘char*’ [-Wwrite-strings]
char *name[8] = {"MuS","Ka","P1","P2","SigmaA","SigmaM","SigmaS","SpotError"};
^
Estimation.cpp:147:78: warning: deprecated conversion from string constant to ‘char*’ [-Wwrite-strings]
Estimation.cpp:147:78: warning: deprecated conversion from string constant to ‘char*’ [-Wwrite-strings]
Estimation.cpp:147:78: warning: deprecated conversion from string constant to ‘char*’ [-Wwrite-strings]
Estimation.cpp:147:78: warning: deprecated conversion from string constant to ‘char*’ [-Wwrite-strings]
Estimation.cpp:147:78: warning: deprecated conversion from string constant to ‘char*’ [-Wwrite-strings]
Estimation.cpp:147:78: warning: deprecated conversion from string constant to ‘char*’ [-Wwrite-strings]
Estimation.cpp:147:78: warning: deprecated conversion from string constant to ‘char*’ [-Wwrite-strings]
g++ -I"/home/biocbuild/bbs-3.8-bioc/R/include" -DNDEBUG -I/usr/local/include -fpic -g -O2 -Wall -c NormalizedData.cpp -o NormalizedData.o
g++ -I"/home/biocbuild/bbs-3.8-bioc/R/include" -DNDEBUG -I/usr/local/include -fpic -g -O2 -Wall -c ParameterofOneArray.cpp -o ParameterofOneArray.o
g++ -I"/home/biocbuild/bbs-3.8-bioc/R/include" -DNDEBUG -I/usr/local/include -fpic -g -O2 -Wall -c RawDataofOneArray.cpp -o RawDataofOneArray.o
g++ -I"/home/biocbuild/bbs-3.8-bioc/R/include" -DNDEBUG -I/usr/local/include -fpic -g -O2 -Wall -c SpikeofOneArray.cpp -o SpikeofOneArray.o
g++ -shared -L/home/biocbuild/bbs-3.8-bioc/R/lib -L/usr/local/lib -o CALIB.so Design.o Estimation.o NormalizedData.o ParameterofOneArray.o RawDataofOneArray.o SpikeofOneArray.o -L/home/biocbuild/bbs-3.8-bioc/R/lib -lR
installing to /home/biocbuild/bbs-3.8-bioc/R/library/CALIB/libs
** R
** data
** inst
** byte-compile and prepare package for lazy loading
** help
*** installing help indices
** building package indices
** installing vignettes
** testing if installed package can be loaded
* DONE (CALIB)
CALIB.Rcheck/CALIB-Ex.timings
| name | user | system | elapsed | |
| RG | 0.176 | 0.008 | 0.184 | |
| adjustP2 | 0.256 | 0.016 | 0.274 | |
| calibReadMe | 0.000 | 0.000 | 0.001 | |
| cbind | 0.004 | 0.000 | 0.003 | |
| dim | 0.004 | 0.000 | 0.003 | |
| dimnames | 0.000 | 0.000 | 0.001 | |
| estimateParameter | 7.016 | 0.000 | 7.023 | |
| getColClasses | 0.004 | 0.000 | 0.001 | |
| merge | 0.008 | 0.000 | 0.008 | |
| normalizeData | 0.656 | 0.012 | 0.669 | |
| normdata | 0.072 | 0.008 | 0.080 | |
| parameter | 0.064 | 0.000 | 0.063 | |
| plotNormalizedData | 0.156 | 0.008 | 0.163 | |
| plotSpikeCI | 0.232 | 0.000 | 0.231 | |
| plotSpikeHI | 0.128 | 0.000 | 0.128 | |
| plotSpikeRG | 0.344 | 0.012 | 0.357 | |
| plotSpikeSpotError | 0.120 | 0.000 | 0.119 | |
| read.rg | 0 | 0 | 0 | |
| spike | 0.060 | 0.004 | 0.066 | |
| subsetting | 0.004 | 0.000 | 0.003 | |