| Back to Multiple platform build/check report for BioC 3.8 | 
  | 
This page was generated on 2018-04-30 09:24:08 -0400 (Mon, 30 Apr 2018).
| Package 167/1559 | Hostname | OS / Arch | INSTALL | BUILD | CHECK | BUILD BIN | ||||||
Paul Shannon 
  | malbec1 | Linux (Ubuntu 16.04.1 LTS) / x86_64 | [ OK ] | ERROR | skipped | |||||||
| tokay1 | Windows Server 2012 R2 Standard / x64 | ...NOT SUPPORTED... | ||||||||||
| merida1 | OS X 10.11.6 El Capitan / x86_64 | ...NOT SUPPORTED... | ||||||||||
| Package: BrowserVizDemo | 
| Version: 1.11.1 | 
| Command: /home/biocbuild/bbs-3.8-bioc/R/bin/R CMD INSTALL BrowserVizDemo | 
| StartedAt: 2018-04-29 18:01:36 -0400 (Sun, 29 Apr 2018) | 
| EndedAt: 2018-04-29 18:01:41 -0400 (Sun, 29 Apr 2018) | 
| EllapsedTime: 4.9 seconds | 
| RetCode: 0 | 
| Status: OK | 
############################################################################## ############################################################################## ### ### Running command: ### ### /home/biocbuild/bbs-3.8-bioc/R/bin/R CMD INSTALL BrowserVizDemo ### ############################################################################## ############################################################################## * installing to library ‘/home/biocbuild/bbs-3.8-bioc/R/library’ * installing *source* package ‘BrowserVizDemo’ ... ** R ** inst ** byte-compile and prepare package for lazy loading Warning: replacing previous import ‘BrowserViz::fromJSON’ by ‘jsonlite::fromJSON’ when loading ‘BrowserVizDemo’ Warning: replacing previous import ‘BrowserViz::toJSON’ by ‘jsonlite::toJSON’ when loading ‘BrowserVizDemo’ Creating a new generic function for ‘plot’ in package ‘BrowserVizDemo’ ** help *** installing help indices ** building package indices ** installing vignettes ** testing if installed package can be loaded Warning: replacing previous import ‘BrowserViz::fromJSON’ by ‘jsonlite::fromJSON’ when loading ‘BrowserVizDemo’ Warning: replacing previous import ‘BrowserViz::toJSON’ by ‘jsonlite::toJSON’ when loading ‘BrowserVizDemo’ Warning: Package 'BrowserVizDemo' is deprecated and will be removed from Bioconductor version 3.7 * DONE (BrowserVizDemo)