This page was generated on 2018-04-30 09:12:44 -0400 (Mon, 30 Apr 2018).
BrowserVizDemo 1.11.1 Paul Shannon
 
| Snapshot Date: 2018-04-29 16:46:14 -0400 (Sun, 29 Apr 2018) |  
| URL: https://git.bioconductor.org/packages/BrowserVizDemo |  
| Branch: master |  
| Last Commit: c5ee57d |  
| Last Changed Date: 2018-04-13 11:10:00 -0400 (Fri, 13 Apr 2018) |  
 
 | malbec1  | Linux (Ubuntu 16.04.1 LTS) / x86_64  |  OK  |  ERROR  |  skipped  |  |  | 
| tokay1  | Windows Server 2012 R2 Standard / x64  | ...NOT SUPPORTED... | 
| merida1  | OS X 10.11.6 El Capitan / x86_64  | ...NOT SUPPORTED... |