| Back to Multiple platform build/check report for BioC 3.8 |
|
This page was generated on 2019-04-13 11:24:37 -0400 (Sat, 13 Apr 2019).
| Package 178/1649 | Hostname | OS / Arch | INSTALL | BUILD | CHECK | BUILD BIN | ||||||
| BridgeDbR 1.16.1 Egon Willighagen
| malbec1 | Linux (Ubuntu 16.04.6 LTS) / x86_64 | OK | OK | OK | |||||||
| tokay1 | Windows Server 2012 R2 Standard / x64 | OK | OK | OK | [ OK ] | |||||||
| merida1 | OS X 10.11.6 El Capitan / x86_64 | OK | OK | OK | OK |
| Package: BridgeDbR |
| Version: 1.16.1 |
| Command: rm -rf BridgeDbR.buildbin-libdir && mkdir BridgeDbR.buildbin-libdir && C:\Users\biocbuild\bbs-3.8-bioc\R\bin\R.exe CMD INSTALL --merge-multiarch --build --library=BridgeDbR.buildbin-libdir BridgeDbR_1.16.1.tar.gz |
| StartedAt: 2019-04-13 06:59:18 -0400 (Sat, 13 Apr 2019) |
| EndedAt: 2019-04-13 06:59:28 -0400 (Sat, 13 Apr 2019) |
| EllapsedTime: 9.9 seconds |
| RetCode: 0 |
| Status: OK |
| PackageFile: BridgeDbR_1.16.1.zip |
| PackageFileSize: 2.659 MiB |
##############################################################################
##############################################################################
###
### Running command:
###
### rm -rf BridgeDbR.buildbin-libdir && mkdir BridgeDbR.buildbin-libdir && C:\Users\biocbuild\bbs-3.8-bioc\R\bin\R.exe CMD INSTALL --merge-multiarch --build --library=BridgeDbR.buildbin-libdir BridgeDbR_1.16.1.tar.gz
###
##############################################################################
##############################################################################
install for i386
* installing *source* package 'BridgeDbR' ...
** R
** inst
** byte-compile and prepare package for lazy loading
** help
*** installing help indices
converting help for package 'BridgeDbR'
finding HTML links ... done
BridgeDbR html
fullNameExists html
getBridgeNames html
getDataSource html
getDatabase html
getFullName html
getMatchingSources html
getOrganismCode html
getSystemCode html
loadDatabase html
map html
registerDataSource html
systemCodeExists html
** building package indices
** installing vignettes
** testing if installed package can be loaded
In R CMD INSTALL
install for x64
* installing *source* package 'BridgeDbR' ...
** testing if installed package can be loaded
* MD5 sums
packaged installation of 'BridgeDbR' as BridgeDbR_1.16.1.zip
* DONE (BridgeDbR)
In R CMD INSTALL
In R CMD INSTALL